Workbook

Sheet Sumário

Sheet Base de Alunos
B1: Base de alunos
B2: Sumário
B4: # de estudantes | C4: ='Histórico Ebitda LTM'!C4 -> 1T18 | D4: ='Histórico Ebitda LTM'!D4 -> 2T18 | E4: ='Histórico Ebitda LTM'!E4 -> 3T18 | F4: ='Histórico Ebitda LTM'!F4 -> 4T18 | G4: ='Histórico Ebitda LTM'!G4 -> 1T19 | H4: ='Histórico Ebitda LTM'!H4 -> 2T19 | I4: ='Histórico Ebitda LTM'!I4 -> 3T19 | J4: ='Histórico Ebitda LTM'!J4 -> 4T19 | ... AJ4: ='Histórico Ebitda LTM'!AJ4 -> 2T26
B5: Graduação | C5: n/a | D5: n/a | E5: n/a | F5: n/a | G5: n/a | H5: n/a | I5: n/a | J5: n/a | K5: 120447 | L5: 113654 | M5: 114257 | N5: 108827 | O5: 133791 | P5: 316334 | Q5: 306700 | R5: 318323 | S5: 330108 | T5: 326535 | U5: 327002 | V5: 331812 | W5: 348516 | X5: 353218 | Y5: 334326 | Z5: 343168 | AA5: 336828 | AB5: =SUM(AB6:AB8) -> 342307 | AC5: =SUM(AC6:AC8) -> 323127 | AD5: 324846 | AE5: =SUM(AE6:AE8) -> 334069 | AF5: =SUM(AF6:AF8) -> 332865 | AG5: =SUM(AG6:AG8) -> 312408 | AH5: =SUM(AH6:AH8) -> 310748 | AI5: =SUM(AI6:AI8) -> 313352 | AJ5: =SUM(AJ6:AJ8) -> 302394
B6: Ânima Core | C6: n/a | D6: n/a | E6: n/a | F6: n/a | G6: n/a | H6: n/a | I6: n/a | J6: n/a | K6: 118481 | L6: 111068 | M6: 111582 | N6: 106120 | O6: 125158 | P6: 247638 | Q6: 239722 | R6: 232890 | S6: 239282 | T6: 224013 | U6: 221827 | V6: 213697 | W6: 229419 | X6: 220287 | Y6: 213334 | Z6: 205273 | AA6: 208939 | AB6: 202681 | AC6: 196647 | AD6: 191351 | AE6: 207429 | AF6: 199991 | AG6: 194838 | AH6: 187378 | AI6: 207330 | AJ6: 193582
B7: Ensino Digital | C7: n/a | D7: n/a | E7: n/a | F7: n/a | G7: n/a | H7: n/a | I7: n/a | J7: n/a | K7: 381 | L7: 441 | M7: 232 | N7: 283 | O7: 3793 | P7: 58711 | Q7: 57117 | R7: 75506 | S7: 80072 | T7: 91503 | U7: 94371 | V7: 107278 | W7: 107176 | X7: 120893 | Y7: 109547 | Z7: 126361 | AA7: 115906 | AB7: 127408 | AC7: 114854 | AD7: 121879 | AE7: 114564 | AF7: 120681 | AG7: 105349 | AH7: 111181 | AI7: 93428 | AJ7: 96195
B8: Inspirali | C8: n/a | D8: n/a | E8: n/a | F8: n/a | G8: n/a | H8: n/a | I8: n/a | J8: n/a | K8: 1585 | L8: 2145 | M8: 2443 | N8: 2424 | O8: 4840 | P8: 9985 | Q8: 9861 | R8: 9927 | S8: 10754 | T8: 11019 | U8: 10804 | V8: 10837 | W8: 11921 | X8: 12038 | Y8: 11445 | Z8: 11534 | AA8: 11983 | AB8: 12218 | AC8: 11626 | AD8: 11616 | AE8: 12076 | AF8: 12193 | AG8: 12221 | AH8: 12189 | AI8: 12594 | AJ8: 12617
B9: Outros | C9: n/a | D9: n/a | E9: n/a | F9: n/a | G9: n/a | H9: n/a | I9: n/a | J9: n/a | K9: 1409 | L9: 1358 | M9: 1420 | N9: 1405 | O9: 1822 | P9: 3930 | Q9: 3862 | R9: 2698 | S9: 2701 | T9: 2651 | U9: 2542 | V9: 2159 | W9: 1864 | X9: 1848 | Y9: 1914 | Z9: 2080 | AA9: 2025 | AB9: =AB10 -> 1997 | AC9: =AC10 -> 1707 | AD9: 1718 | AE9: =AE10 -> 1853 | AF9: =AF10 -> 1847 | AG9: =AG10 -> 1580 | AH9: =AH10 -> 1619 | AI9: =AI10 -> 1717 | AJ9: =AJ10 -> 1697
B10: Ânima Core | C10: n/a | D10: n/a | E10: n/a | F10: n/a | G10: n/a | H10: n/a | I10: n/a | J10: n/a | K10: 1409 | L10: 1358 | M10: 1420 | N10: 1405 | O10: 1822 | P10: 3930 | Q10: 3862 | R10: 2698 | S10: 2701 | T10: 2651 | U10: 2542 | V10: 2159 | W10: 1864 | X10: 1848 | Y10: 1914 | Z10: 2080 | AA10: 2025 | AB10: 1997 | AC10: 1707 | AD10: 1718 | AE10: 1853 | AF10: 1847 | AG10: 1580 | AH10: 1619 | AI10: 1717 | AJ10: 1697
B11: Ensino Acadêmico | C11: n/a | D11: n/a | E11: n/a | F11: n/a | G11: n/a | H11: n/a | I11: n/a | J11: n/a | K11: 121856 | L11: 115012 | M11: 115677 | N11: 110232 | O11: 135613 | P11: 320264 | Q11: 310562 | R11: 321021 | S11: 332809 | T11: 329186 | U11: 329544 | V11: 333971 | W11: 350380 | X11: 355066 | Y11: 336240 | Z11: 345248 | AA11: 338853 | AB11: =SUM(AB5,AB9) -> 344304 | AC11: =SUM(AC5,AC9) -> 324834 | AD11: 326564 | AE11: =SUM(AE5,AE9) -> 335922 | AF11: =SUM(AF5,AF9) -> 334712 | AG11: =SUM(AG5,AG9) -> 313988 | AH11: =SUM(AH5,AH9) -> 312367 | AI11: =SUM(AI5,AI9) -> 315069 | AJ11: =SUM(AJ5,AJ9) -> 304091
B13: Ânima Core | C13: n/a | D13: n/a | E13: n/a | F13: n/a | G13: n/a | H13: n/a | I13: n/a | J13: n/a | K13: 18380 | L13: 18932 | M13: 23054 | N13: 31692 | O13: 30420 | P13: 36946 | Q13: 33181 | R13: 29974 | S13: 28985 | T13: 26037 | U13: 28353 | V13: 27493 | W13: 28033 | X13: 28041 | Y13: 29262 | Z13: 37131 | AA13: 22515 | AB13: 16261 | AC13: 28215.333 | AD13: 12196 | AE13: 10680 | AF13: 8562 | AG13: 7388 | AH13: 7078 | AI13: 6558 | AJ13: 5802
B14: Ensino Digital | C14: n/a | D14: n/a | E14: n/a | F14: n/a | G14: n/a | H14: n/a | I14: n/a | J14: n/a | K14: 0 | L14: 0 | M14: 0 | N14: 0 | O14: 2172 | P14: 32567 | Q14: 26543 | R14: 38534 | S14: 31695 | T14: 36524 | U14: 28808 | V14: 31083 | W14: 21106 | X14: 30795 | Y14: 21920 | Z14: 25456 | AA14: 21943 | AB14: 24504 | AC14: 17619 | AD14: 23349 | AE14: 27140 | AF14: 31975 | AG14: 31384 | AH14: 32012 | AI14: 31359 | AJ14: 28902
B15: Inspirali | C15: n/a | D15: n/a | E15: n/a | F15: n/a | G15: n/a | H15: n/a | I15: n/a | J15: n/a | K15: 0 | L15: 0 | M15: 0 | N15: 0 | O15: 0 | P15: 0 | Q15: 0 | R15: 2258 | S15: 2420 | T15: 2398 | U15: 2582 | V15: 2797 | W15: 3096 | X15: 3399 | Y15: 3609 | Z15: 3169 | AA15: 3366 | AB15: 3492 | AC15: 3733 | AD15: 7151 | AE15: 7570 | AF15: 7574 | AG15: 8066 | AH15: 8963 | AI15: 8492 | AJ15: 9326
B16: Lifelong Learning | C16: n/a | D16: n/a | E16: n/a | F16: n/a | G16: n/a | H16: n/a | I16: n/a | J16: n/a | K16: 18380 | L16: 18932 | M16: 23054 | N16: 31692 | O16: 32592 | P16: 69513 | Q16: 59724 | R16: 70766 | S16: 63100 | T16: 64959 | U16: 59743 | V16: 61373 | W16: 52235 | X16: 62235 | Y16: 54791 | Z16: 65756 | AA16: 47824 | AB16: =SUM(AB13:AB15) -> 44257 | AC16: =SUM(AC13:AC15) -> 49567.333 | AD16: 42696 | AE16: =SUM(AE13:AE15) -> 45390 | AF16: =SUM(AF13:AF15) -> 48111 | AG16: =SUM(AG13:AG15) -> 46838 | AH16: =SUM(AH13:AH15) -> 48053 | AI16: =SUM(AI13:AI15) -> 46409 | AJ16: =SUM(AJ13:AJ15) -> 44030
B18: Base de Alunos Total | C18: n/a | D18: n/a | E18: n/a | F18: n/a | G18: n/a | H18: n/a | I18: n/a | J18: n/a | K18: 140236 | L18: 133944 | M18: 138731 | N18: 141924 | O18: 168205 | P18: 389777 | Q18: 370286 | R18: 391787 | S18: 395909 | T18: 394145 | U18: 389287 | V18: 395344 | W18: 402615 | X18: 417301 | Y18: 391031 | Z18: 411004 | AA18: 386677 | AB18: =SUM(AB11,AB16) -> 388561 | AC18: =SUM(AC11,AC16) -> 374401.33 | AD18: 369260 | AE18: =SUM(AE11,AE16) -> 381312 | AF18: =SUM(AF11,AF16) -> 382823 | AG18: =SUM(AG11,AG16) -> 360826 | AH18: =SUM(AH11,AH16) -> 360420 | AI18: =SUM(AI11,AI16) -> 361478 | AJ18: =SUM(AJ11,AJ16) -> 348121

Sheet Fluxo da Graduação
B1: Fluxo da graduação
B2: Sumário
B4: # de estudantes | C4: ='Histórico Ebitda LTM'!C4 -> 1T18 | D4: ='Histórico Ebitda LTM'!D4 -> 2T18 | E4: ='Histórico Ebitda LTM'!E4 -> 3T18 | F4: ='Histórico Ebitda LTM'!F4 -> 4T18 | G4: ='Histórico Ebitda LTM'!G4 -> 1T19 | H4: ='Histórico Ebitda LTM'!H4 -> 2T19 | I4: ='Histórico Ebitda LTM'!I4 -> 3T19 | J4: ='Histórico Ebitda LTM'!J4 -> 4T19 | ... AJ4: ='Histórico Ebitda LTM'!AJ4 -> 2T26
B5: Ânima Core | C5: ='Histórico Ebitda LTM'!C4 -> 1T18 | D5: ='Histórico Ebitda LTM'!D4 -> 2T18 | E5: ='Histórico Ebitda LTM'!E4 -> 3T18 | F5: ='Histórico Ebitda LTM'!F4 -> 4T18 | G5: ='Histórico Ebitda LTM'!G4 -> 1T19 | H5: ='Histórico Ebitda LTM'!H4 -> 2T19 | I5: ='Histórico Ebitda LTM'!I4 -> 3T19 | J5: ='Histórico Ebitda LTM'!J4 -> 4T19 | ... N5: ='Histórico Ebitda LTM'!N4 -> 4T20
B6: Base Anterior | C6: n/a | D6: n/a | E6: n/a | F6: n/a | G6: n/a | H6: n/a | I6: n/a | J6: n/a | K6: n/a | L6: n/a | M6: n/a | N6: n/a | O6: 106120 | P6: 125158 | Q6: 247638 | R6: 239722 | S6: 232890 | T6: 239282 | U6: 224013 | V6: 221827 | W6: 213697 | X6: 229419 | Y6: 220287 | Z6: 213334 | AA6: 205273 | AB6: 208939 | AC6: =AB12 -> 202681 | AD6: 196647 | AE6: =AD12 -> 191351 | AF6: =AE12 -> 207429 | AG6: =AF12 -> 199991 | AH6: =AG12 -> 194838 | AI6: =AH12 -> 187378 | AJ6: =AI12 -> 207330
B7: Formaturas | C7: n/a | D7: n/a | E7: n/a | F7: n/a | G7: n/a | H7: n/a | I7: n/a | J7: n/a | K7: n/a | L7: n/a | M7: n/a | N7: n/a | O7: -12481 | P7: 0 | Q7: -17548 | R7: 0 | S7: -28846 | T7: 0 | U7: -15216 | V7: 0 | W7: -28722 | X7: 0 | Y7: -15309 | Z7: 0 | AA7: -26716 | AB7: 0 | AC7: -13662 | AD7: 0 | AE7: -23863 | AF7: 0 | AG7: -13165 | AH7: 0 | AI7: -22085 | AJ7: 0
B8: Evasão | C8: n/a | D8: n/a | E8: n/a | F8: n/a | G8: n/a | H8: n/a | I8: n/a | J8: n/a | K8: n/a | L8: n/a | M8: n/a | N8: n/a | O8: -7516 | P8: -7392 | Q8: -24345 | R8: -14801 | S8: -29035 | T8: -15269 | U8: -25267 | V8: -8130 | W8: -23909 | X8: -12197 | Y8: -29161 | Z8: -8386 | AA8: -25255 | AB8: -8706 | AC8: -23890 | AD8: -5588 | AE8: -20736 | AF8: -9537 | AG8: -25203 | AH8: -7670 | AI8: -23321 | AJ8: -14613
B9: % Evasão | C9: n/a | D9: n/a | E9: n/a | F9: n/a | G9: n/a | H9: n/a | I9: n/a | J9: n/a | K9: n/a | L9: n/a | M9: n/a | N9: n/a | O9: -0.070825481 | P9: -0.059061346 | Q9: -0.098308822 | R9: -0.061742352 | S9: -0.12467259 | T9: -0.063811737 | U9: -0.11279256 | V9: -0.036650182 | W9: -0.11188271 | X9: -0.053164734 | Y9: -0.13237731 | Z9: -0.039309252 | AA9: -0.12303128 | AB9: -0.041667664 | AC9: =AC8/AC6 -> -0.11786995 | AD9: -0.028416401 | AE9: =AE8/AE6 -> -0.1083663 | AF9: =AF8/AF6 -> -0.045977178 | AG9: =AG8/AG6 -> -0.12602067 | AH9: =AH8/AH6 -> -0.039366037 | AI9: =AI8/AI6 -> -0.12445965 | AJ9: =AJ8/AJ6 -> -0.070481841
B10: Entradas | C10: n/a | D10: n/a | E10: n/a | F10: n/a | G10: n/a | H10: n/a | I10: n/a | J10: n/a | K10: n/a | L10: n/a | M10: n/a | N10: n/a | O10: 30327 | P10: 0 | Q10: 33977 | R10: 7969 | S10: 64273 | T10: 0 | U10: 38297 | V10: 0 | W10: 68353 | X10: 3065 | Y10: 37517 | Z10: 325 | AA10: 55637 | AB10: 2448 | AC10: 31518 | AD10: 292 | AE10: 60677 | AF10: 2099 | AG10: 33215 | AH10: 210 | AI10: 65358 | AJ10: 865
B11: Aquisições | C11: n/a | D11: n/a | E11: n/a | F11: n/a | G11: n/a | H11: n/a | I11: n/a | J11: n/a | K11: n/a | L11: n/a | M11: n/a | N11: n/a | O11: 8708 | P11: 129872 | Q11: 0 | R11: 0 | S11: 0 | T11: 0 | U11: 0 | V11: 0 | W11: 0 | X11: 0 | Y11: 0 | Z11: 0 | AA11: 0 | AB11: 0 | AC11: 0 | AD11: 0 | AE11: 0 | AF11: 0 | AG11: 0 | AH11: 0 | AI11: 0 | AJ11: 0
B12: Base Atual | C12: n/a | D12: n/a | E12: n/a | F12: n/a | G12: n/a | H12: n/a | I12: n/a | J12: n/a | K12: n/a | L12: n/a | M12: n/a | N12: n/a | O12: 125158 | P12: 247638 | Q12: 239722 | R12: 232890 | S12: 239282 | T12: 224013 | U12: 221827 | V12: 213697 | W12: 229419 | X12: 220287 | Y12: 213334 | Z12: 205273 | AA12: 208939 | AB12: 202681 | AC12: =SUM(AC6:AC8,AC10:AC11) -> 196647 | AD12: 191351 | AE12: =SUM(AE6:AE8,AE10:AE11) -> 207429 | AF12: =SUM(AF6:AF8,AF10:AF11) -> 199991 | AG12: =SUM(AG6:AG8,AG10:AG11) -> 194838 | AH12: =SUM(AH6:AH8,AH10:AH11) -> 187378 | AI12: =SUM(AI6:AI8,AI10:AI11) -> 207330 | AJ12: =SUM(AJ6:AJ8,AJ10:AJ11) -> 193582
B14: Ensino Digital | C14: ='Histórico Ebitda LTM'!C4 -> 1T18 | D14: ='Histórico Ebitda LTM'!D4 -> 2T18 | E14: ='Histórico Ebitda LTM'!E4 -> 3T18 | F14: ='Histórico Ebitda LTM'!F4 -> 4T18 | G14: ='Histórico Ebitda LTM'!G4 -> 1T19 | H14: ='Histórico Ebitda LTM'!H4 -> 2T19 | I14: ='Histórico Ebitda LTM'!I4 -> 3T19 | J14: ='Histórico Ebitda LTM'!J4 -> 4T19 | ... N14: ='Histórico Ebitda LTM'!N4 -> 4T20
B15: Base Anterior | C15: n/a | D15: n/a | E15: n/a | F15: n/a | G15: n/a | H15: n/a | I15: n/a | J15: n/a | K15: n/a | L15: n/a | M15: n/a | N15: n/a | O15: n/a | P15: n/a | Q15: 58711 | R15: 57117 | S15: 75506 | T15: 80072 | U15: 91503 | V15: 94371 | W15: 107278 | X15: 107176 | Y15: 120893 | Z15: 109547 | AA15: 126361 | AB15: 115906 | AC15: =AB21 -> 127408 | AD15: 114854 | AE15: =AD21 -> 121879 | AF15: =AE21 -> 114564 | AG15: =AF21 -> 120681 | AH15: =AG21 -> 105349 | AI15: =AH21 -> 111181 | AJ15: =AI21 -> 93428
B16: Formaturas | C16: n/a | D16: n/a | E16: n/a | F16: n/a | G16: n/a | H16: n/a | I16: n/a | J16: n/a | K16: n/a | L16: n/a | M16: n/a | N16: n/a | O16: n/a | P16: n/a | Q16: -2083 | R16: 0 | S16: -3727 | U16: -3067 | V16: 0 | W16: -4427 | X16: 0 | Y16: -5269 | Z16: 0 | AA16: -5909 | AB16: 0 | AC16: -7100 | AD16: 0 | AE16: -9520 | AF16: 0 | AG16: -10399 | AH16: 0 | AI16: -9073 | AJ16: 0
B17: Evasão | C17: n/a | D17: n/a | E17: n/a | F17: n/a | G17: n/a | H17: n/a | I17: n/a | J17: n/a | K17: n/a | L17: n/a | M17: n/a | N17: n/a | O17: n/a | P17: n/a | Q17: -16496 | R17: -1348 | S17: -18781 | T17: -5118 | U17: -24583 | V17: -5137 | W17: -30437 | X17: -5685 | Y17: -31780 | Z17: -2065 | AA17: -32709 | AB17: -6814 | AC17: -30525 | AD17: -4103 | AE17: -29735 | AF17: -5066 | AG17: -26501 | AH17: -2555 | AI17: -27145 | AJ17: -1525
B18: % Evasão | C18: n/a | D18: n/a | E18: n/a | F18: n/a | G18: n/a | H18: n/a | I18: n/a | J18: n/a | K18: n/a | L18: n/a | M18: n/a | N18: n/a | O18: n/a | P18: n/a | Q18: -0.28096949 | R18: -0.023600679 | S18: -0.2487352 | T18: -0.063917474 | U18: -0.26865786 | V18: -0.054434095 | W18: -0.2837208 | X18: -0.053043592 | Y18: -0.26287709 | Z18: -0.018850356 | AA18: -0.2588536 | AB18: -0.058789019 | AC18: =AC17/AC15 -> -0.23958464 | AD18: -0.035723614 | AE18: =AE17/AE15 -> -0.24397148 | AF18: =AF17/AF15 -> -0.044219825 | AG18: =AG17/AG15 -> -0.21959546 | AH18: =AH17/AH15 -> -0.024252722 | AI18: =AI17/AI15 -> -0.24415143 | AJ18: =AJ17/AJ15 -> -0.01632273
B19: Entradas | C19: n/a | D19: n/a | E19: n/a | F19: n/a | G19: n/a | H19: n/a | I19: n/a | J19: n/a | K19: n/a | L19: n/a | M19: n/a | N19: n/a | O19: n/a | P19: n/a | Q19: 16985 | R19: 19737 | S19: 27074 | T19: 16549 | U19: 30518 | V19: 18044 | W19: 34762 | X19: 19402 | Y19: 25703 | Z19: 18879 | AA19: 28163 | AB19: 18316 | AC19: 25071 | AD19: 11128 | AE19: 31940 | AF19: 11183 | AG19: 21568 | AH19: 8387 | AI19: 18465 | AJ19: 4292
B20: Aquisições | C20: n/a | D20: n/a | E20: n/a | F20: n/a | G20: n/a | H20: n/a | I20: n/a | J20: n/a | K20: n/a | L20: n/a | M20: n/a | N20: n/a | O20: n/a | P20: n/a | Q20: 0 | R20: 0 | S20: 0 | T20: 0 | U20: 0 | V20: 0 | W20: 0 | X20: 0 | Y20: 0 | Z20: 0 | AA20: 0 | AB20: 0 | AC20: 0 | AD20: 0 | AE20: 0 | AF20: 0 | AG20: 0 | AH20: 0 | AI20: 0 | AJ20: 0
B21: Base Atual | C21: n/a | D21: n/a | E21: n/a | F21: n/a | G21: n/a | H21: n/a | I21: n/a | J21: n/a | K21: n/a | L21: n/a | M21: n/a | N21: n/a | O21: n/a | P21: n/a | Q21: 57117 | R21: 75506 | S21: 80072 | T21: 91503 | U21: 94371 | V21: 107278 | W21: 107176 | X21: 120893 | Y21: 109547 | Z21: 126361 | AA21: 115906 | AB21: 127408 | AC21: =SUM(AC15:AC17,AC19:AC20) -> 114854 | AD21: 121879 | AE21: =SUM(AE15:AE17,AE19:AE20) -> 114564 | AF21: =SUM(AF15:AF17,AF19:AF20) -> 120681 | AG21: =SUM(AG15:AG17,AG19:AG20) -> 105349 | AH21: =SUM(AH15:AH17,AH19:AH20) -> 111181 | AI21: =SUM(AI15:AI17,AI19:AI20) -> 93428 | AJ21: =SUM(AJ15:AJ17,AJ19:AJ20) -> 96195

Sheet Balanço IFRS
B1: Balanço Consolidado IFRS
B2: Sumário
B4: R$ milhões | C4: 1T18 | D4: 2T18 | E4: 3T18 | F4: 4T18 | G4: 1T19 | H4: 2T19 | I4: 3T19 | J4: 4T19 | K4: 1T20 | L4: 2T20 | M4: 3T20 | N4: 4T20 | O4: 1T21 | P4: 2T21 | Q4: 3T21 | R4: 4T21 | S4: 1T22 | T4: 2T22 | U4: 3T22 | V4: 4T22 | W4: 1T23 | X4: 2T23 | Y4: 3T23 | Z4: 4T23 | AA4: 1T24 | AB4: 2T24 | AC4: 3T24 | AD4: 4T24 | AE4: 1T25 | AF4: 2T25 | AG4: 3T25 | AH4: 4T25 | AI4: 1T26 | AJ4: 2T26
B5: Ativo Circulante | C5: 432.861 | D5: 542.01115 | E5: 498.98367 | F5: 408.19357 | G5: 389.25848 | H5: 360.947 | I5: 369.73111 | J5: 455.92088 | K5: 1281.063 | L5: 1312.3783 | M5: 1309.3986 | N5: 2106.4135 | O5: =SUM(O6:O17) -> 1860.921 | P5: =SUM(P6:P17) -> 1618.499 | Q5: =SUM(Q6:Q17) -> 1615.157 | R5: =SUM(R6:R17) -> 1311.929 | S5: =SUM(S6:S17) -> 2245.964 | T5: =SUM(T6:T17) -> 2117.333 | U5: =SUM(U6:U17) -> 2067.6899 | V5: =SUM(V6:V17) -> 2379.5891 | ... AC5: =SUM(AC6:AC17) -> 2388.248 | AD5: 2084.6531 | AE5: 2324.269 | AF5: =SUM(AF6:AF17) -> 2358.349 | AG5: =SUM(AG6:AG17) -> 2547.889 | AH5: =SUM(AH6:AH17) -> 2588.253 | AI5: =SUM(AI6:AI17) -> 2713.585 | AJ5: =SUM(AJ6:AJ17) -> 2749.743
B6: Caixa e equivalentes de caixa | C6: 26.337 | D6: 246.552 | E6: 23.345 | F6: 99.507 | G6: 44.502 | H6: 30.307 | I6: 27.956 | J6: 31.552 | K6: 36.443 | L6: 41.915 | M6: 84.332 | N6: 73.183 | O6: 62.233 | P6: 141.182 | Q6: 174.919 | R6: 169.248 | S6: 229.109 | T6: 146.241 | U6: 192.315 | V6: 422.431 | W6: 419.777 | X6: 61.462 | Y6: 445.741 | Z6: 139.411 | AA6: 146.471 | AB6: 172.419 | AC6: 100.228 | AD6: 99.600576 | AE6: 125.35214 | AF6: 103.14965 | AG6: 112.989 | AH6: 220.007 | AI6: 105.086 | AJ6: 105.305
B7: Aplicações financeiras | C7: 74.34 | D7: 46.941 | E7: 222.874 | F7: 85.924 | G7: 92.223 | H7: 55.402 | I7: 79.944 | J7: 151.042 | K7: 895.451 | L7: 751.389 | M7: 705.427 | N7: 1204.671 | O7: 1161.156 | P7: 496.839 | Q7: 584.552 | R7: 346.053 | S7: 1172.202 | T7: 1068.326 | U7: 912.282 | V7: 988.199 | W7: 840.518 | X7: 923.049 | Y7: 600.827 | Z7: 765.834 | AA7: 382.004 | AB7: 1007.622 | AC7: 1374.94 | AD7: 1152.3796 | AE7: 1266.569 | AF7: 1341.1299 | AG7: 1563.474 | AH7: 1485.408 | AI7: 1627.078 | AJ7: 1671.602
B8: Contas a receber | C8: 290.528 | D8: 197.56 | E8: 203.574 | F8: 174.083 | G8: 210.759 | H8: 235.44 | I8: 224.399 | J8: 213.346 | K8: 272.865 | L8: 302.431 | M8: 318.364 | N8: 343.602 | O8: 365.439 | P8: 614.25 | Q8: 640.966 | R8: 603.855 | S8: 656.435 | T8: 724.655 | U8: 803.43607 | V8: 791.593 | W8: 873.866 | X8: 808.006 | Y8: 705.582 | Z8: 722.121 | AA8: 822.617 | AB8: 840.904 | AC8: 804.654 | AD8: 740.573 | AE8: 808.37109 | AF8: 784.47605 | AG8: 759.143 | AH8: 771.91 | AI8: 850.649 | AJ8: 821.873
B9: Conta a receber com partes relacionadas | C9: 0 | D9: 0 | E9: 0 | F9: 0 | G9: 0 | H9: 0 | I9: 0 | J9: 0 | K9: 0 | L9: 0 | M9: 0 | N9: 0 | O9: 0 | P9: 0 | Q9: 0 | R9: 0 | S9: 0 | T9: 0 | U9: 0 | V9: 0.33511558 | W9: 0.632 | X9: 0.336 | Y9: 0.336 | Z9: 0.336 | AA9: 0.336 | AB9: 0.76 | AC9: 0.76 | AD9: 0.76018843 | AE9: 0.94 | AF9: 0.43756744 | AG9: 0.441 | AH9: 0.441 | AI9: 0.441 | AJ9: 0.441
B10: Adiantamentos diversos | C10: 19.481 | D10: 27.465 | E10: 21.095 | F10: 31.559 | G10: 21.336 | H10: 20.153 | I10: 17.38 | J10: 27.77 | K10: 18.166 | L10: 19.462 | M10: 12.904 | N10: 24.985 | O10: 12.76 | P10: 23.436 | Q10: 17.57 | R10: 44.202 | S10: 24.303 | T10: 36.6 | U10: 28.258 | V10: 55.26 | W10: 17.465 | X10: 26.712 | Y10: 27.576 | Z10: 31.489 | AA10: 18.094 | AB10: 25.564 | AC10: 18.503 | AD10: 30.094734 | AE10: 25.309406 | AF10: 0 | AG10: 0 | AH10: 0 | AI10: 0 | AJ10: 0
B11: Impostos e contribuições a recuperar | C11: 8.995 | D11: 9.807 | E11: 10.256 | F11: 9.669 | G11: 6.227 | H11: 7.614 | I11: 6.228 | J11: 4.087 | K11: 4.839 | L11: 6.011 | M11: 4.815 | N11: 5.88 | O11: 6.847 | P11: 78.294 | Q11: 81.588 | R11: 88.617 | S11: 83.441 | T11: 83.384 | U11: 81.562 | V11: 77.156 | W11: 74.695 | X11: 75.765 | Y11: 94.929 | Z11: 62.673 | AA11: 68.065 | AB11: 61.63 | AC11: 58.485 | AD11: 44.339104 | AE11: 47.121239 | AF11: 52.59745 | AG11: 52.84 | AH11: 64.372 | AI11: 58.329 | AJ11: 77.845
B12: Derivativos | C12: 0.07000424 | D12: 2.5461454 | E12: 3.319673 | F12: 1.8495748 | G12: 1.5954784 | H12: 0 | I12: 4.0841053 | J12: 2.390878 | K12: 0 | L12: 0 | M12: 0 | N12: 0 | O12: 0.717 | P12: 0 | Q12: 0 | R12: 0 | S12: 0 | T12: 0 | U12: 0 | V12: 0 | W12: 0 | X12: 0 | Y12: 0 | Z12: 0 | AA12: 0 | AB12: 0 | AC12: 0 | AD12: 0 | AE12: 0 | AF12: 0 | AG12: 0 | AH12: 0 | AI12: 0 | AJ12: 0
B13: Direitos e empréstimos para aquisições | C13: 0 | D13: 0 | E13: 0 | F13: 0 | G13: 0 | H13: 0 | I13: 0 | J13: 20.05 | K13: 40.115 | L13: 177.13727 | M13: 172.0416 | N13: 0 | O13: 0 | P13: 0 | Q13: 0 | R13: 0 | S13: 0 | T13: 0 | U13: 0 | V13: 0 | W13: 0 | X13: 0 | Y13: 0 | Z13: 0 | AA13: 0 | AB13: 0 | AC13: 0 | AD13: 0 | AE13: 0 | AF13: 0 | AG13: 0 | AH13: 0 | AI13: 0 | AJ13: 0
B14: Despesas antecipadas | C14: 0 | D14: 0 | E14: 0 | F14: 0 | G14: 0 | H14: 0 | I14: 0 | J14: 0 | K14: 0 | L14: 0 | M14: 0 | N14: 0 | O14: 0 | P14: 0 | Q14: 0 | R14: 0 | S14: 0 | T14: 0 | U14: 0 | V14: 35.991 | W14: 60.37 | X14: 0 | Y14: 0 | Z14: 0 | AA14: 0 | AB14: 0 | AC14: 0 | AD14: 0 | AE14: 0 | AF14: 0 | AG14: 0 | AH14: 0 | AI14: 0 | AJ14: 0
B15: Outros ativos circulantes | C15: 13.11 | D15: 11.14 | E15: 14.52 | F15: 5.602 | G15: 12.616 | H15: 12.031 | I15: 9.74 | J15: 5.683 | K15: 13.184 | L15: 14.033 | M15: 10.192 | N15: 40.894 | O15: 71.502 | P15: 109.827 | Q15: 114.314 | R15: 58.559 | S15: 78.806 | T15: 54.23 | U15: 47.808797 | V15: 5.557 | W15: 1.662 | X15: 41.121 | Y15: 29.968 | Z15: 16.577 | AA15: 37.823 | AB15: 31.357 | AC15: 30.678 | AD15: 16.905884 | AE15: 50.606079 | AF15: =46.84458593+29.71378728 -> 76.558373 | AG15: 59.002 | AH15: 46.115 | AI15: 72.002 | AJ15: 72.677
B16: Direitos a receber por aquisições | C16: 0 | D16: 0 | E16: 0 | F16: 0 | G16: 0 | H16: 0 | I16: 0 | J16: 0 | K16: 0 | L16: 0 | M16: 1.323 | N16: 413.19854 | O16: 180.267 | P16: 1.649 | Q16: 1.248 | R16: 1.395 | S16: 1.668 | T16: 3.897 | U16: 2.028 | V16: 3.067 | W16: 1.76 | X16: 1.227 | Y16: 2.015 | Z16: 0.043 | AA16: 0 | AB16: 0 | AC16: 0 | AD16: 0 | AE16: 0 | AF16: 0 | AG16: 0 | AH16: 0 | AI16: 0 | AJ16: 0
B17: Ativos disponíveis para venda | C17: 0 | D17: 0 | E17: 0 | F17: 0 | G17: 0 | H17: 0 | I17: 0 | J17: 0 | K17: 0 | L17: 0 | M17: 0 | N17: 0 | O17: 0 | P17: 153.022 | Q17: 0 | R17: 0 | S17: 0 | T17: 0 | U17: 0 | V17: 0 | W17: 0 | X17: 0 | Y17: 0 | Z17: 32 | AA17: 32 | AB17: 0 | AC17: 0 | AD17: 0 | AE17: 0 | AF17: 0 | AG17: 0 | AH17: 0 | AI17: 0 | AJ17: 0
B18: Ativo Não Circulante | C18: 935.731 | D18: 949.615 | E18: 999.012 | F18: 1038.276 | G18: 1614.286 | H18: 1609.671 | I18: 1791.22 | J18: 1944.1 | K18: 2075.837 | L18: 2132.886 | M18: 2393.203 | N18: 2476.025 | O18: =SUM(O19:O34) -> 3121.483 | P18: =SUM(P19:P34) -> 8573.798 | Q18: =SUM(Q19:Q34) -> 8701.857 | R18: =SUM(R19:R34) -> 8570.749 | S18: =SUM(S19:S34) -> 8572.535 | T18: =SUM(T19:T34) -> 8360.5 | U18: =SUM(U19:U34) -> 8351.7957 | V18: =SUM(V19:V34) -> 8352.408 | ... AC18: =SUM(AC19:AC34) -> 7566.4 | AD18: 7604.2198 | AE18: 7641.7302 | AF18: =SUM(AF19:AF34) -> 7641.6621 | AG18: =SUM(AG19:AG34) -> 7542.388 | AH18: =SUM(AH19:AH34) -> 7585.459 | AI18: =SUM(AI19:AI34) -> 7842.422 | AJ18: =SUM(AJ19:AJ34) -> 7844.571
B19: Aplicações financeiras | C19: 0 | D19: 0 | E19: 0 | F19: 0 | G19: 0 | H19: 0 | I19: 0 | J19: 0 | K19: 0 | L19: 0 | M19: 0 | N19: 0 | O19: 0 | P19: 0 | Q19: 0 | R19: 0 | S19: 0 | T19: 0 | U19: 0 | V19: 66 | W19: 66.011 | X19: 69.423 | Y19: 79.223 | Z19: 79.223 | AA19: 0 | AB19: 0 | AC19: 0 | AD19: 0 | AE19: 0 | AF19: 0 | AG19: 0 | AH19: 0 | AI19: 25.729 | AJ19: 26.396
B20: Contas a Receber | C20: 0.135 | D20: 0.134 | E20: 0 | F20: 0 | G20: 0 | H20: 0 | I20: 0 | J20: 0 | K20: 0 | L20: 26.307 | M20: 35.056 | N20: 35.376 | O20: 39.058 | P20: 55.342 | Q20: 51.373 | R20: 56.092 | S20: 73.697 | T20: 57.203 | U20: 59.457 | V20: 57.486 | W20: 74.468 | X20: 67.237 | Y20: 46.799 | Z20: 44.4 | AA20: 73.047 | AB20: 68.071 | AC20: 87.012 | AD20: 96.289985 | AE20: 113.74734 | AF20: 140.92254 | AG20: 141.012 | AH20: 115.59 | AI20: 164.281 | AJ20: 198.196
B21: Adiantamentos diversos | C21: 10.613 | D21: 9.674 | E21: 8.521 | F21: 7.233 | G21: 5.968 | H21: 0.096 | I21: 0.013 | J21: 0 | K21: 0 | L21: 0 | M21: 0 | N21: 0 | O21: 0 | P21: 0 | Q21: 0 | R21: 0 | S21: 0 | T21: 0 | U21: 0 | V21: 0 | W21: 0 | X21: 0 | Y21: 0 | Z21: 0 | AA21: 0 | AB21: 0 | AC21: 0 | AD21: 0 | AE21: 0 | AF21: 0 | AG21: 0 | AH21: 0 | AI21: 0 | AJ21: 0
B22: Depositos judiciais | C22: 40.219 | D22: 43.637 | E22: 45.864 | F22: 50.324 | G22: 53.634 | H22: 55.96 | I22: 57.82 | J22: 61.062 | K22: 60.683 | L22: 63.462 | M22: 62.804 | N22: 63.359 | O22: 65.052 | P22: 142.97 | Q22: 140.408 | R22: 141.873 | S22: 144.14 | T22: 146.23 | U22: 139.954 | V22: 143.801 | W22: 146.887 | X22: 156.145 | Y22: 162.929 | Z22: 149.504 | AA22: 152.115 | AB22: 154.067 | AC22: 159.292 | AD22: 157.17188 | AE22: 158.13127 | AF22: 153.2774 | AG22: 147.59 | AH22: 143.631 | AI22: 145.062 | AJ22: 147.962
B23: Direitos a receber por aquisições | C23: 0 | D23: 0 | E23: 0 | F23: 0 | G23: 0 | H23: 0 | I23: 0 | J23: 0 | K23: 0 | L23: 0 | M23: 102.015 | N23: 103.242 | O23: 0 | P23: 156.399 | Q23: 225.58 | R23: 229.925 | S23: 236.051 | T23: 238.025 | U23: 239.705 | V23: 248.616 | W23: 248.599 | X23: 254.377 | Y23: 257.391 | Z23: 256.322 | AA23: 248.413 | AB23: 247.493 | AC23: 232.639 | AD23: 224.28003 | AE23: 226.06208 | AF23: =230.89895286+1.05383506 -> 231.95279 | AG23: 151.086 | AH23: 249.119 | AI23: 241.648 | AJ23: 248.783
B24: Créditos com partes relacionadas | C24: 0.159 | D24: 0.169 | E24: 0.539 | F24: 9.524 | G24: 9.689 | H24: 9.82 | I24: 9.967 | J24: 9.796 | K24: 9.951 | L24: 10.462 | M24: 10.571 | N24: 10.843 | O24: 11.468 | P24: 11.736 | Q24: 11.952 | R24: 12.46 | S24: 14.43 | T24: 23.263 | U24: 25.784688 | V24: 36.189 | W24: 38.822 | X24: 18.617 | Y24: 18.669 | Z24: 13.055 | AA24: 5.875 | AB24: 5.937 | AC24: 0.059 | AD24: 0.05251059 | AE24: 0.05269449 | AF24: 3.2400134 | AG24: 1.624 | AH24: 1.699 | AI24: 1.859 | AJ24: 4.644
B25: Impostos e contribuições a recuperar | C25: 15.367 | D25: 14.017 | E25: 12.785 | F25: 12.239 | G25: 14.082 | H25: 11.99 | I25: 12.134 | J25: 12.849 | K25: 13.491 | L25: 13.192 | M25: 14.855 | N25: 15.243 | O25: 14.506 | P25: 17.087 | Q25: 15.795 | R25: 17.509 | S25: 18.188 | T25: 19.556 | U25: 26.208 | V25: 27.328 | W25: 32.924 | X25: 39.066 | Y25: 24.036 | Z25: 49.042 | AA25: 48.757 | AB25: 55.344 | AC25: 31.55 | AD25: 47.290686 | AE25: 41.752036 | AF25: 39.587999 | AG25: 29.029 | AH25: 31.764 | AI25: 31.628 | AJ25: 37.094
B26: Imposto de renda e contribuição social diferidos | C26: 1.584 | D26: 1.584 | E26: 1.584 | F26: 1.584 | G26: 1.584 | H26: 1.584 | I26: 1.584 | J26: 1.584 | K26: 1.54 | L26: 1.527 | M26: 1.514 | N26: 1.501 | O26: 1.488 | P26: 148.253 | Q26: 149.243 | R26: 1.462 | S26: 0 | T26: 0 | U26: 0 | V26: 0 | W26: 0 | X26: 0 | Y26: 0 | Z26: 0 | AA26: 0 | AB26: 0 | AC26: 0 | AD26: 0 | AE26: 0 | AF26: 0 | AG26: 0 | AH26: 0 | AI26: 0 | AJ26: 0
B27: Derivativos | C27: 0 | D27: 2.613 | E27: 2.39 | F27: 0.901 | G27: 1.37 | H27: 0 | I27: 0 | J27: 0 | K27: 0 | L27: 0 | M27: 0 | N27: 0 | O27: 3.81 | P27: 0 | Q27: 0 | R27: 0 | S27: 0 | T27: 0 | U27: 0 | V27: 0 | W27: 0 | X27: 0 | Y27: 0 | Z27: 0 | AA27: 0 | AB27: 0 | AC27: 0 | AD27: 0 | AE27: 0 | AF27: 0 | AG27: 0 | AH27: 0 | AI27: 0 | AJ27: 0
B28: Adiantamento p/ futuro aumento de capital | C28: 0 | D28: 0 | E28: 0 | F28: 0 | G28: 0 | H28: 0 | I28: 0 | J28: 0 | K28: 0 | L28: 0 | M28: 0 | N28: 0 | O28: 0 | P28: 0 | Q28: 0 | R28: 0 | S28: 0 | T28: 0 | U28: 0 | V28: 0 | W28: 0 | X28: 0 | Y28: 0 | Z28: 0 | AA28: 0 | AB28: 0 | AC28: 0 | AD28: 0 | AE28: 0 | AF28: 0 | AG28: 0 | AH28: 0 | AI28: 0 | AJ28: 0
B29: Direitos e empréstimos para aquisições | C29: 0 | D29: 0 | E29: 0 | F29: 0 | G29: 0 | H29: 0 | I29: 0 | J29: 100.126 | K29: 116.487 | L29: 0 | M29: 11.352 | N29: 0 | O29: 104.131 | P29: 0 | Q29: 0 | R29: 0 | S29: 0 | T29: 0 | U29: 0 | V29: 0 | W29: 0 | X29: 0 | Y29: 0 | Z29: 0 | AA29: 0 | AB29: 0 | AC29: 0 | AD29: 0 | AE29: 0 | AF29: 0 | AG29: 0 | AH29: 0 | AI29: 0 | AJ29: 0
B30: Outros ativos não circulantes | C30: 31.458 | D30: 35.27 | E30: 35.615 | F30: 37.332 | G30: 36.573 | H30: 36.402 | I30: 39.675 | J30: 41.117 | K30: 39.739 | L30: 38.807 | M30: 4.996 | N30: 7.022 | O30: 7.091 | P30: 65.225 | Q30: 62.606 | R30: 50.82 | S30: 50.872 | T30: 6.318 | U30: 6.083 | V30: 5.779 | W30: 6.374 | X30: 6.52 | Y30: 6.67 | Z30: 6.773 | AA30: 8.022 | AB30: 6.935 | AC30: 10.513 | AD30: 9.2058422 | AE30: 11.032918 | AF30: 9.3062845 | AG30: 9.348 | AH30: 11.09 | AI30: 11.291 | AJ30: 12.891
B31: Investimentos | C31: 2.402 | D31: 1.842 | E31: 1.449 | F31: 0.184 | G31: 0 | H31: 0 | I31: 0 | J31: 0 | K31: 0 | L31: 0 | M31: 0.049 | N31: 10.824 | O31: 12.515 | P31: 10.461 | Q31: 42.634 | R31: 42.316 | S31: 8.573 | T31: 11.673 | U31: 49.822 | V31: 42.545 | W31: 50.793 | X31: 36.028 | Y31: 36.232 | Z31: 36.072 | AA31: 30.859 | AB31: 33.119 | AC31: 34.249 | AD31: 34.87837 | AE31: 39.110067 | AF31: 55.218196 | AG31: 57.33 | AH31: 73.978 | AI31: 74.171 | AJ31: 74.244
B32: Direito de uso de arrendamentos | C32: 0 | D32: 0 | E32: 0 | F32: 0 | G32: 540.89204 | H32: 533.64299 | I32: 541.30465 | J32: 531.538 | K32: 562 | L32: 553.613 | M32: 604.232 | N32: 608.708 | O32: 759.93 | P32: 1276.937 | Q32: 1419.609 | R32: 1382.681 | S32: 1396.496 | T32: 1330.149 | U32: 1352.856 | V32: 1310.352 | W32: 1236.554 | X32: 1136.576 | Y32: 1096.82 | Z32: 1073.872 | AA32: 1041.947 | AB32: 1001.461 | AC32: 974.869 | AD32: 953.0908 | AE32: 989.00177 | AF32: 968.53534 | AG32: 972.083 | AH32: 933.395 | AI32: 1130.156 | AJ32: 1087.664
B33: Imobilizado | C33: 263.127 | D33: 269.467 | E33: 282.658 | F33: 301.823 | G33: 305.07896 | H33: 335.42201 | I33: 369.74535 | J33: 367.087 | K33: 386.045 | L33: 391.539 | M33: 372.812 | N33: 370.899 | O33: 381.036 | P33: 694.007 | Q33: 671.236 | R33: 661.593 | S33: 653.847 | T33: 641.393 | U33: 629.31 | V33: 618.658 | W33: 623.635 | X33: 617.175 | Y33: 611.09 | Z33: 552.507 | AA33: 539.727 | AB33: 520.537 | AC33: 515.761 | AD33: 514.96548 | AE33: 517.32191 | AF33: 511.55503 | AG33: 507.287 | AH33: 501.241 | AI33: 502.381 | AJ33: 497.401
B34: Intangível | C34: 570.667 | D34: 571.208 | E34: 607.607 | F34: 617.132 | G34: 645.415 | H34: 624.754 | I34: 758.977 | J34: 818.941 | K34: 885.901 | L34: 1033.977 | M34: 1172.947 | N34: 1249.008 | O34: 1721.398 | P34: 5995.381 | Q34: 5911.421 | R34: 5974.018 | S34: 5976.241 | T34: 5886.69 | U34: 5822.616 | V34: 5795.654 | W34: 5756.188 | X34: 5717.142 | Y34: 5674.594 | Z34: 5624.223 | AA34: 5578.887 | AB34: 5541.661 | AC34: 5520.456 | AD34: 5566.9942 | AE34: 5545.5181 | AF34: 5528.0665 | AG34: 5525.999 | AH34: 5523.952 | AI34: 5514.216 | AJ34: 5509.296
B35: Total do Ativo | C35: 1368.592 | D35: 1491.6261 | E35: 1497.9957 | F35: 1446.4696 | G35: 2003.5445 | H35: 1970.618 | I35: 2160.9511 | J35: 2400.0209 | K35: 3356.9 | L35: 3445.2636 | M35: 3702.6016 | N35: 4582.4385 | O35: =SUM(O5,O18) -> 4982.404 | P35: =SUM(P5,P18) -> 10192.297 | Q35: =SUM(Q5,Q18) -> 10317.014 | R35: =SUM(R5,R18) -> 9882.678 | S35: =SUM(S5,S18) -> 10818.499 | T35: =SUM(T5,T18) -> 10477.833 | U35: =SUM(U5,U18) -> 10419.486 | V35: =SUM(V5,V18) -> 10731.997 | ... AC35: =SUM(AC5,AC18) -> 9954.648 | AD35: 9688.8729 | AE35: =AE18+AE5 -> 9965.9992 | AF35: =AF18+AF5 -> 10000.011 | AG35: =AG18+AG5 -> 10090.277 | AH35: =AH18+AH5 -> 10173.712 | AI35: =AI18+AI5 -> 10556.007 | AJ35: =AJ18+AJ5 -> 10594.314
B38: R$ milhões | C38: 1T18 | D38: 2T18 | E38: 3T18 | F38: 4T18 | G38: 1T19 | H38: 2T19 | I38: 3T19 | J38: 4T19 | K38: 1T20 | L38: 2T20 | M38: 3T20 | N38: 4T20 | O38: 1T21 | P38: 2T21 | Q38: 3T21 | R38: 4T21 | S38: 1T22 | T38: 2T22 | U38: 3T22 | V38: 4T22 | W38: 1T23 | X38: 2T23 | Y38: 3T23 | Z38: 4T23 | AA38: 1T24 | AB38: 2T24 | AC38: 3T24 | AD38: 4T24 | AE38: =AE4 -> 1T25 | AF38: =AF4 -> 2T25 | AG38: =AG4 -> 3T25 | AH38: =AH4 -> 4T25 | AI38: =AI4 -> 1T26 | AJ38: =AJ4 -> 2T26
B39: Passivo Circulante | C39: =SUM(C40:C51) -> 231.213 | D39: =SUM(D40:D51) -> 221.816 | E39: =SUM(E40:E51) -> 265.535 | F39: =SUM(F40:F51) -> 231.586 | G39: =SUM(G40:G51) -> 251.18736 | H39: =SUM(H40:H51) -> 258.78262 | I39: =SUM(I40:I51) -> 470.65624 | J39: =SUM(J40:J51) -> 339.925 | ... AC39: =SUM(AC40:AC51) -> 1359.837 | AD39: 962.89245 | AE39: 1127.6254 | AF39: =SUM(AF40:AF51) -> 1060.5609 | AG39: =SUM(AG40:AG51) -> 1328.457 | AH39: =SUM(AH40:AH51) -> 1164.141 | AI39: =SUM(AI40:AI51) -> 1427.353 | AJ39: =SUM(AJ40:AJ51) -> 1839.997
B40: Fornecedores | C40: 34.034 | D40: 28.306 | E40: 28.242 | F40: 30.99 | G40: 27.086 | H40: 28.925 | I40: 31.894 | J40: 31.983 | K40: 41.955 | L40: 44.382 | M40: 43.08 | N40: 48.83 | O40: 46.082 | P40: 137.394 | Q40: 141.535 | R40: 185.508 | S40: 196.413 | T40: 158.862 | U40: 188.12752 | V40: 209.813 | W40: 217.269 | X40: 207.91 | Y40: 222.827 | Z40: 176.692 | AA40: 221.567 | AB40: 202.655 | AC40: 195.981 | AD40: 210.39603 | AE40: 237.58896 | AF40: 203.41424 | AG40: 218.292 | AH40: 199.319 | AI40: 239.489 | AJ40: 207.804
B41: Contas a pagar com partes relacionadas | C41: 0 | D41: 0 | E41: 0 | F41: 0 | G41: 0 | H41: 0 | I41: 0 | J41: 0 | K41: 0 | L41: 0 | M41: 0 | N41: 0 | O41: 0 | P41: 0 | Q41: 0 | R41: 0.699 | S41: 0 | T41: 0 | U41: 0 | V41: 0.16710859 | W41: 0.166 | X41: 0.165 | Y41: 0.637 | Z41: 0.168 | AA41: 0.168 | AB41: 0.168 | AC41: 0.168 | AD41: 0.16773929 | AE41: 0.16773929 | AF41: 1.1978712e-14 | AG41: 0 | AH41: 0 | AI41: 0 | AJ41: 0
B42: Empréstimos, financiamentos e debêntures | C42: 56.856 | D42: 63.059 | E42: 75.806 | F42: 80.539 | G42: 78.370253 | H42: 68.157052 | I42: 203.70884 | J42: 103.435 | K42: 90.415 | L42: 78.429 | M42: 87.914 | N42: 129.607 | O42: 130.636 | P42: 562.582 | Q42: 354.932 | R42: 360.449 | S42: 394.987 | T42: 920.969 | U42: 888.979 | V42: 885.446 | W42: 1333.839 | X42: 867.4 | Y42: 715.789 | Z42: 875.973 | AA42: 778.925 | AB42: 361.883 | AC42: 418.593 | AD42: 146.94745 | AE42: 214.14289 | AF42: 241.33499 | AG42: 411.35 | AH42: 345.238 | AI42: 474.772 | AJ42: 997.219
B43: Arrendamentos a pagar | C43: 0 | D43: 0 | E43: 0 | F43: 0 | G43: 27.173105 | H43: 20.594566 | I43: 23.243397 | J43: 24.688 | K43: 29.655 | L43: 32.732 | M43: 35.724 | N43: 40.431 | O43: 45.727 | P43: 148.116 | Q43: 162.221 | R43: 167.448 | S43: 179.051 | T43: 175.879 | U43: 170.761 | V43: 172.747 | W43: 169.589 | X43: 152.011 | Y43: 158.2 | Z43: 144.371 | AA43: 142.703 | AB43: 143.248 | AC43: 137.175 | AD43: 141.42673 | AE43: 139.86204 | AF43: 129.7594 | AG43: 121.56 | AH43: 111.074 | AI43: 132.636 | AJ43: 135.809
...

Sheet DRE IFRS
B1: DRE IFRS
B2: Sumário
B4: R$ milhões | C4: ='Histórico Ebitda LTM'!C4 -> 1T18 | D4: ='Histórico Ebitda LTM'!D4 -> 2T18 | E4: ='Histórico Ebitda LTM'!E4 -> 3T18 | F4: ='Histórico Ebitda LTM'!F4 -> 4T18 | G4: ='Histórico Ebitda LTM'!G4 -> 1T19 | H4: ='Histórico Ebitda LTM'!H4 -> 2T19 | I4: ='Histórico Ebitda LTM'!I4 -> 3T19 | J4: ='Histórico Ebitda LTM'!J4 -> 4T19 | ... N4: ='Histórico Ebitda LTM'!N4 -> 4T20 | O4: 1T21 | P4: 2T21 | Q4: 3T21 | R4: 4T21 | S4: 1T22 | T4: 2T22 | U4: 3T22 | V4: 4T22 | W4: 1T23 | X4: 2T23 | Y4: 3T23 | Z4: 4T23 | AA4: 1T24 | AB4: 2T24 | AC4: 3T24 | AD4: 4T24 | AE4: 1T25 | AF4: 2T25 | AG4: 3T25 | AH4: 4T25 | AI4: 1T26 | AJ4: 2T26 | AL4: 2021 | AM4: 2022 | AN4: 2023 | AO4: 2024 | AP4: 2025
B5: Receita Líquida | C5: 266.846 | D5: 282.379 | E5: 257.614 | F5: 295.618 | G5: 282.534 | H5: 285.401 | I5: 293.65 | J5: 319.914 | K5: 338.983 | L5: 356.135 | M5: 350.945 | N5: 375.926 | O5: 415.998 | P5: 585.946 | Q5: 816.681 | R5: 848.506 | S5: 902.38 | T5: 910.472 | U5: 905.237 | V5: 845.142 | W5: 954.422 | X5: 932.424 | Y5: 940.408 | Z5: 905.686 | AA5: 990.715 | AB5: 977.002 | AC5: 938.279 | AD5: 895.3825 | AE5: 1040.122 | AF5: 1005.34 | AG5: 1005.915 | AH5: 972.32 | AI5: 1120.4028 | AJ5: 1050.0493 | AL5: =SUM(O5:R5) -> 2667.131 | AM5: =SUM(S5:V5) -> 3563.231 | AN5: =SUM(W5:Z5) -> 3732.94 | AO5: 3801.3785 | AP5: =SUM(AE5:AH5) -> 4023.697
B6: Custo dos Serviços Prestados | C6: -140.509 | D6: -185.181 | E6: -172.523 | F6: -208.928 | G6: -134.265 | H6: -176.246 | I6: -168.272 | J6: -192.801 | K6: -149.246 | L6: -175.838 | M6: -172.05 | N6: -186.404 | O6: -180.415 | P6: -248.27 | Q6: -365.272 | R6: -455.987 | S6: -314.226 | T6: -387.888 | U6: -377.883 | V6: -428.844 | W6: -320.443 | X6: -422.017 | Y6: -372.318 | Z6: -404.038 | AA6: -316.88 | AB6: -392.956 | AC6: -385.781 | AD6: -354.369 | AE6: -339.137 | AF6: -409.373 | AG6: -366.58 | AH6: -375.114 | AI6: -362.19957 | AJ6: -414.8823 | AL6: =SUM(O6:R6) -> -1249.944 | AM6: =SUM(S6:V6) -> -1508.841 | AN6: =SUM(W6:Z6) -> -1518.816 | AO6: -1449.986 | AP6: =SUM(AE6:AH6) -> -1490.204
B7: Lucro Bruto (Prejuízo) | C7: 126.337 | D7: 97.198 | E7: 85.091 | F7: 86.69 | G7: 148.269 | H7: 109.155 | I7: 125.378 | J7: 127.113 | K7: 189.737 | L7: 180.297 | M7: 178.895 | N7: 189.522 | O7: 235.583 | P7: 337.676 | Q7: 451.409 | R7: 392.519 | S7: 588.154 | T7: 522.584 | U7: 527.354 | V7: 416.298 | W7: 633.979 | X7: 510.407 | Y7: 568.09 | Z7: 501.648 | AA7: 673.835 | AB7: 584.046 | AC7: 552.498 | AD7: 541.0135 | AE7: 700.985 | AF7: 595.967 | AG7: 639.335 | AH7: 597.206 | AI7: 758.2032 | AJ7: 635.16699 | AL7: =SUM(O7:R7) -> 1417.187 | AM7: =SUM(S7:V7) -> 2054.39 | AN7: =SUM(W7:Z7) -> 2214.124 | AO7: =SUM(AO5:AO6) -> 2351.3925 | AP7: =SUM(AP5:AP6) -> 2533.493
B8: Receitas (Despesas) Operacionais | C8: -79.527 | D8: -88.15 | E8: -93.696 | F8: -95.287 | G8: -85.154 | H8: -91.352 | I8: -95.788 | J8: -117.651 | K8: -173.389 | L8: -131.899 | M8: -139.681 | N8: -175.303 | O8: -142.748 | P8: -270.774 | Q8: -308.255 | R8: -397.96304 | S8: -402.9583 | T8: -415.5067 | U8: -412.40001 | V8: -445.423 | W8: -476.765 | X8: -379.346 | Y8: -424.773 | Z8: -408.338 | AA8: -427.67134 | AB8: -385.99966 | AC8: -370.871 | AD8: -346.752 | AE8: -396.356 | AF8: -367.296 | AG8: -386.112 | AH8: -381.712 | AI8: -432.56514 | AJ8: -361.11088 | AL8: =SUM(O8:R8) -> -1119.74 | AM8: =SUM(S8:V8) -> -1676.288 | AN8: =SUM(W8:Z8) -> -1689.222 | AO8: =SUM(AO9:AO12) -> -1531.294 | AP8: =SUM(AP9:AP12) -> -1531.476
B9: Comerciais | C9: -21.645 | D9: -23.051 | E9: -19.184 | F9: -32.784 | G9: -25.378 | H9: -24.546 | I9: -26.054 | J9: -34.005 | K9: -32.681 | L9: -43.954 | M9: -32.277 | N9: -58.374 | O9: -36.884 | P9: -62.08 | Q9: -58.373 | R9: -151.99704 | S9: -111.4113 | T9: -119.4427 | U9: -85.374006 | V9: -111.389 | W9: -122.081 | X9: -105.988 | Y9: -130.721 | Z9: -105.238 | AA9: -153.03362 | AB9: -104.63438 | AC9: -114.138 | AD9: -97.392 | AE9: -151.117 | AF9: -92.371 | AG9: -100.286 | AH9: -133.532 | AI9: -173.79741 | AJ9: -106.3542 | AL9: =SUM(O9:R9) -> -309.33404 | AM9: =SUM(S9:V9) -> -427.617 | AN9: =SUM(W9:Z9) -> -464.028 | AO9: =-290.672-178.526 -> -469.198 | AP9: =SUM(AE9:AH9) -> -477.306
B10: Gerais e administrativas | C10: -58.288 | D10: -66.919 | E10: -70.791 | F10: -63.262 | G10: -61.419 | H10: -67.175 | I10: -69.059 | J10: -84.245 | K10: -75.335 | L10: -79.42 | M10: -88.657 | N10: -94.859 | O10: -99.943 | P10: -192.176 | Q10: -299.559 | R10: -272.615 | S10: -271.761 | T10: -280.222 | U10: -324.941 | V10: -325.59 | W10: -310.617 | X10: -301.278 | Y10: -274.114 | Z10: -254.395 | AA10: -257.392 | AB10: -272.243 | AC10: -235.685 | AD10: -277.98 | AE10: -242 | AF10: -260.744 | AG10: -269.003 | AH10: -270.07 | AI10: -257.46946 | AJ10: -260.93623 | AL10: =SUM(O10:R10) -> -864.293 | AM10: =SUM(S10:V10) -> -1202.514 | AN10: =SUM(W10:Z10) -> -1140.404 | AO10: -1043.3 | AP10: =SUM(AE10:AH10) -> -1041.817
B11: Resultado de equivalência patrimonial | C11: -0.329 | D11: -0.561 | E11: -0.395 | F11: -1.263 | G11: -0.51 | H11: -0.783 | I11: -0.576 | J11: -0.594 | K11: -0.574 | L11: -1.271 | M11: -1.194 | N11: -0.546 | O11: 0.242 | P11: -0.552 | Q11: 0.35 | R11: -0.584 | S11: -4.247 | T11: -4.383 | U11: 0.187 | V11: -5.899 | W11: -2.154 | X11: -1.626 | Y11: -0.818 | Z11: -2.294 | AA11: -8.29272 | AB11: -1.17428 | AC11: -1.032 | AD11: -1.271 | AE11: -1.036 | AF11: -1.603 | AG11: -1.204 | AH11: -5.036 | AI11: -0.49517346 | AJ11: -1.6011768 | AL11: =SUM(O11:R11) -> -0.544 | AM11: =SUM(S11:V11) -> -14.342 | AN11: =SUM(W11:Z11) -> -6.892 | AO11: -11.77 | AP11: =SUM(AE11:AH11) -> -8.879
B12: Outras (despesas) receitas operacionais | C12: 0.735 | D12: 2.381 | E12: -3.326 | F12: 2.022 | G12: 2.153 | H12: 1.152 | I12: -0.099 | J12: 1.193 | K12: -64.799 | L12: -7.254 | M12: -17.553 | N12: -21.524 | O12: -6.163 | P12: -15.966 | Q12: 49.327 | R12: 27.233 | S12: -15.539 | T12: -11.459 | U12: -2.272 | V12: -2.545 | W12: -41.913 | X12: 29.546 | Y12: -19.12 | Z12: -46.411 | AA12: -8.953 | AB12: -7.948 | AC12: -20.016 | AD12: 29.891 | AE12: -2.203 | AF12: -12.578 | AG12: -15.619 | AH12: 26.926 | AI12: -0.80310017 | AJ12: 7.7807258 | AL12: =SUM(O12:R12) -> 54.431 | AM12: =SUM(S12:V12) -> -31.815 | AN12: =SUM(W12:Z12) -> -77.898 | AO12: -7.026 | AP12: =SUM(AE12:AH12) -> -3.474
B13: Resultado antes do Resultado Financeiro | C13: 46.81 | D13: 9.048 | E13: -8.605 | F13: -8.597 | G13: 63.115 | H13: 17.803 | I13: 29.59 | J13: 9.462 | K13: 16.348 | L13: 48.398 | M13: 39.214 | N13: 14.219 | O13: 92.835 | P13: 66.902 | Q13: 143.154 | R13: -5.4440423 | S13: 185.1957 | T13: 107.0773 | U13: 114.95399 | V13: -29.125 | W13: 157.214 | X13: 131.061 | Y13: 143.317 | Z13: 93.31 | AA13: 246.16366 | AB13: 198.04634 | AC13: 181.627 | AD13: 194.2615 | AE13: 304.629 | AF13: 228.671 | AG13: 253.223 | AH13: 215.494 | AI13: 325.63806 | AJ13: 274.05611 | AL13: =SUM(O13:R13) -> 297.44696 | AM13: =SUM(S13:V13) -> 378.102 | AN13: =SUM(W13:Z13) -> 524.902 | AO13: =SUM(AO7:AO8) -> 820.0985 | AP13: =SUM(AP7:AP8) -> 1002.017
B14: Receita financeira | C14: 8.005 | D14: 12.259 | E14: 16.129 | F14: 2.805 | G14: 11.167 | H14: 6.109 | I14: 8.386 | J14: 1.463 | K14: 6.815 | L14: 10.362 | M14: 15.719 | N14: 12.689 | O14: 13.042 | P14: 44.557 | Q14: 21.296 | R14: 22.794 | S14: 23.454 | T14: 40.841 | U14: 51.422 | V14: 49.248 | W14: 49.627 | X14: 50.769 | Y14: 33.864 | Z14: 34.268 | AA14: 40.897 | AB14: 30.997 | AC14: 51.911 | AD14: 46.191958 | AE14: 53.776 | AF14: 53.893 | AG14: 75.393 | AH14: 69.416 | AI14: 74.022548 | AJ14: 61.552833 | AL14: =SUM(O14:R14) -> 101.689 | AM14: =SUM(S14:V14) -> 164.965 | AN14: =SUM(W14:Z14) -> 168.528 | AO14: 169.99696 | AP14: =SUM(AE14:AH14) -> 252.478
B15: Despesa financeira | C15: -13.122 | D15: -22.376 | E15: -22.401 | F15: -15.986 | G15: -36.286 | H15: -38.911 | I15: -38.56 | J15: -39.66 | K15: -41.286 | L15: -47.715 | M15: -52.453 | N15: -58.655 | O15: -53.999 | P15: -129.193 | Q15: -165.878 | R15: -182.547 | S15: -298.439 | T15: -213.326 | U15: -221.376 | V15: -225.876 | W15: -251.617 | X15: -239.864 | Y15: -193.887 | Z15: -225.937 | AA15: -190.093 | AB15: -225.126 | AC15: -195.224 | AD15: -193.5853 | AE15: -224.955 | AF15: -242.795 | AG15: -258.02 | AH15: -275.866 | AI15: -259.3675 | AJ15: -268.39916 | AL15: =SUM(O15:R15) -> -531.617 | AM15: =SUM(S15:V15) -> -959.017 | AN15: =SUM(W15:Z15) -> -911.305 | AO15: -804.0283 | AP15: =SUM(AE15:AH15) -> -1001.636
B16: Lucro (Prejuízo) antes de impostos | C16: 41.693 | D16: -1.069 | E16: -14.877 | F16: -21.778 | G16: 37.996 | H16: -14.999 | I16: -0.584 | J16: -28.735 | K16: -18.123 | L16: 11.045 | M16: 2.48 | N16: -31.747 | O16: 51.878 | P16: -17.734 | Q16: -1.428 | R16: -165.19704 | S16: -89.789299 | T16: -65.407695 | U16: -55.000006 | V16: -205.753 | W16: -44.776 | X16: -58.034 | Y16: -16.706 | Z16: -98.359 | AA16: 96.967663 | AB16: 3.9173366 | AC16: 38.314 | AD16: 46.868163 | AE16: 133.45 | AF16: 39.769 | AG16: 70.596 | AH16: 9.044 | AI16: 140.29311 | AJ16: 67.209782 | AL16: =SUM(O16:R16) -> -132.48104 | AM16: =SUM(S16:V16) -> -415.95 | AN16: =SUM(W16:Z16) -> -217.875 | AO16: =SUM(AO13:AO15) -> 186.06716 | AP16: =SUM(AP13:AP15) -> 252.859
B17: Imposto de renda e contribuição social, corrente e diferido | C17: -1.753 | D17: -1.907 | E17: -1.778 | F17: 3.72 | G17: 0.128 | H17: -1.921 | I17: -1.888 | J17: 0.41 | K17: -0.695 | L17: -1.6 | M17: -0.659 | N17: -1.352 | O17: 0.219 | P17: 22.715 | Q17: 15.921 | R17: 12.299 | S17: 6.433 | T17: 19.545 | U17: 26.229 | V17: 375.198 | W17: 3.428 | X17: 0.218 | Y17: 4.178 | Z17: -3.121 | AA17: 0.55783851 | AB17: 0.38916149 | AC17: 15.421 | AD17: 2.0086576 | AE17: 6.753 | AF17: -2.844 | AG17: -2.056 | AH17: 1.953 | AI17: -1.3426788 | AJ17: -0.78756077 | AL17: =SUM(O17:R17) -> 51.154 | AM17: =SUM(S17:V17) -> 427.405 | AN17: =SUM(W17:Z17) -> 4.703 | AO17: 18.376658 | AP17: =SUM(AE17:AH17) -> 3.806
B18: Lucro (Prejuízo) Líquido | C18: 39.94 | D18: -2.976 | E18: -16.655 | F18: -18.058 | G18: 38.124 | H18: -16.92 | I18: -2.472 | J18: -28.325 | K18: -18.818 | L18: 9.445 | M18: 1.821 | N18: -33.099 | O18: 52.097 | P18: 4.981 | Q18: 14.493 | R18: -152.89804 | S18: -83.356299 | T18: -45.862695 | U18: -28.771006 | V18: 169.445 | W18: -41.348 | X18: -57.816 | Y18: -12.528 | Z18: -101.48 | AA18: 97.525502 | AB18: 4.306498 | AC18: 53.735 | AD18: 48.876821 | AE18: 140.203 | AF18: 36.925 | AG18: 68.54 | AH18: 10.997 | AI18: 138.95043 | AJ18: 66.422221 | AL18: =SUM(O18:R18) -> -81.327042 | AM18: =SUM(S18:V18) -> 11.455 | AN18: =SUM(W18:Z18) -> -213.172 | AO18: =SUM(AO16:AO17) -> 204.44382 | AP18: =SUM(AP16:AP17) -> 256.665
B19: (-) Participação dos acionistas não controladores | C19: 0 | D19: 0 | E19: 0 | F19: 0 | G19: 0 | H19: 0 | I19: 0 | J19: 0 | K19: 0 | L19: -0.459 | M19: 0.007 | N19: 0.909 | O19: 2.1008362 | P19: 2.0058346 | Q19: 1.309 | R19: 0.92122627 | S19: 6.7572005 | T19: 35.500634 | U19: 17.953954 | V19: 53.494471 | W19: 35.861882 | X19: 43.99514 | Y19: 17.707047 | Z19: 18.893673 | AA19: 32.99 | AB19: 18.995 | AC19: 34.29 | AD19: 33.024493 | AE19: 44.479 | AF19: 27.385 | AG19: 31.998 | AH19: 29.048 | AI19: 32.737621 | AJ19: 37.293817 | AL19: =SUM(O19:R19) -> 6.3368971 | AM19: =SUM(S19:V19) -> 113.70626 | AN19: =SUM(W19:Z19) -> 116.45774 | AO19: 119.29949 | AP19: =SUM(AE19:AH19) -> 132.91
B20: Lucro (Prejuízo) Líquido, atribuível aos acionistas controladores | C20: 39.94 | D20: -2.976 | E20: -16.655 | F20: -18.058 | G20: 38.124 | H20: -16.92 | I20: -2.472 | J20: -28.325 | K20: -18.818 | L20: =L18-L19 -> 9.904 | M20: =M18-M19 -> 1.814 | N20: =N18-N19 -> -34.008 | O20: =O18-O19 -> 49.996164 | P20: =P18-P19 -> 2.9751654 | Q20: =Q18-Q19 -> 13.184 | R20: =R18-R19 -> -153.81927 | S20: =S18-S19 -> -90.113499 | ... V20: =V18-V19 -> 115.95053 | W20: -77.209882 | X20: =X18-X19 -> -101.81114 | Y20: =Y18-Y19 -> -30.235047 | Z20: -120.37367 | AA20: 64.535502 | AB20: -14.688502 | AC20: 19.445 | AD20: 15.852327 | AE20: 95.724 | AF20: 9.54 | AG20: 36.542 | AH20: -18.051 | AI20: 106.21281 | AJ20: 29.128404 | AL20: =SUM(O20:R20) -> -87.663939 | AM20: =SUM(S20:V20) -> -102.25126 | AN20: =SUM(W20:Z20) -> -329.62974 | AO20: =AO18-AO19 -> 85.144327 | AP20: =AP18-AP19 -> 123.755

Sheet DRE Consolidada 
B1: Demonstração do resultado do exercício (DRE)
B4: R$ milhões, exceto em % | C4: ='Histórico Ebitda LTM'!C4 -> 1T18 | D4: ='Histórico Ebitda LTM'!D4 -> 2T18 | E4: ='Histórico Ebitda LTM'!E4 -> 3T18 | F4: ='Histórico Ebitda LTM'!F4 -> 4T18 | G4: ='Histórico Ebitda LTM'!G4 -> 1T19 | H4: ='Histórico Ebitda LTM'!H4 -> 2T19 | I4: ='Histórico Ebitda LTM'!I4 -> 3T19 | J4: ='Histórico Ebitda LTM'!J4 -> 4T19 | ... AJ4: ='Histórico Ebitda LTM'!AJ4 -> 2T26 | AL4: 2021 | AM4: 2022 | AN4: 2023 | AO4: 2024 | AP4: 2025
B5: Receita Bruta | C5: n/a | D5: n/a | E5: n/a | F5: n/a | G5: n/a | H5: n/a | I5: n/a | J5: n/a | K5: 684.09378 | L5: 659.55375 | M5: 671.76386 | N5: 677.03762 | O5: 787.65308 | P5: 1096.5562 | Q5: 1614.3694 | R5: 1646.1373 | S5: 1761.517 | T5: 1822.5062 | U5: 1829.2289 | V5: 1665.3184 | W5: 1928.9026 | X5: 1963.2054 | Y5: 1886.0547 | Z5: 1868.8011 | AA5: 1986.0648 | AB5: 2018.5313 | AC5: 1885.0221 | AD5: 1882.4275 | AE5: 2134.9154 | AF5: 2173.4726 | AG5: 2051.855 | AH5: 2051.0986 | AI5: 2286.3351 | AJ5: 2265.3647 | AL5: =SUM(O5:R5) -> 5144.7159 | AM5: =SUM(S5:V5) -> 7078.5706 | AN5: =SUM(W5:Z5) -> 7646.9638 | AO5: 7772.0457 | AP5: =SUM(AE5:AH5) -> 8411.3416
B6: Descontos, Deduções & Bolsas | C6: n/a | D6: n/a | E6: n/a | F6: n/a | G6: n/a | H6: n/a | I6: n/a | J6: n/a | K6: -334.55587 | L6: -292.10006 | M6: -308.85715 | N6: -288.4479 | O6: -358.65407 | P6: -488.38337 | Q6: -761.27124 | R6: -759.48642 | S6: -822.06907 | T6: -873.39935 | U6: -886.049 | V6: -785.90925 | W6: -937.79783 | X6: -994.2151 | Y6: -908.23511 | Z6: -927.23855 | AA6: -957.8653 | AB6: -1002.3157 | AC6: -907.66731 | AD6: -951.253 | AE6: -1054.8333 | AF6: -1127.5954 | AG6: -1004.9882 | AH6: -1041.0298 | AI6: -1123.535 | AJ6: -1174.9454 | AL6: =SUM(O6:R6) -> -2367.7951 | AM6: =SUM(S6:V6) -> -3367.4267 | AN6: =SUM(W6:Z6) -> -3767.4866 | AO6: -3819.1013 | AP6: =SUM(AE6:AH6) -> -4228.4467
B7: Impostos & Taxas | C7: n/a | D7: n/a | E7: n/a | F7: n/a | G7: n/a | H7: n/a | I7: n/a | J7: n/a | K7: -10.920203 | L7: -11.319306 | M7: -11.961412 | N7: -12.664474 | O7: -13.023379 | P7: -22.2047 | Q7: -36.414778 | R7: -38.143347 | S7: -37.067803 | T7: -38.63428 | U7: -37.943466 | V7: -34.268245 | W7: -36.682497 | X7: -36.566126 | Y7: -37.412477 | Z7: -35.87643 | AA7: -37.48458 | AB7: -39.213442 | AC7: -39.076209 | AD7: -35.79635 | AE7: -39.960249 | AF7: -40.537377 | AG7: -40.951623 | AH7: -37.748922 | AI7: -42.397341 | AJ7: -40.370089 | AL7: =SUM(O7:R7) -> -109.7862 | AM7: =SUM(S7:V7) -> -147.91379 | AN7: =SUM(W7:Z7) -> -146.53753 | AO7: -151.57058 | AP7: =SUM(AE7:AH7) -> -159.19817
B8: Receita Líquida | C8: n/a | D8: n/a | E8: n/a | F8: n/a | G8: n/a | H8: n/a | I8: n/a | J8: n/a | K8: 338.61771 | L8: 356.13439 | M8: 350.94529 | N8: 375.92526 | O8: =SUM(O5:O7) -> 415.97563 | P8: =SUM(P5:P7) -> 585.96811 | Q8: 816.68335 | R8: 848.50754 | S8: 902.38017 | T8: 910.47256 | U8: 905.23647 | V8: 845.14093 | W8: 954.42228 | X8: 932.42419 | Y8: 940.40708 | Z8: 905.68608 | AA8: 990.71494 | AB8: 977.00212 | AC8: 938.27857 | AD8: 895.37816 | AE8: 1040.1218 | AF8: 1005.3398 | AG8: 1005.9152 | AH8: 972.31993 | AI8: 1120.4028 | AJ8: 1050.0493 | AL8: =SUM(O8:R8) -> 2667.1346 | AM8: =SUM(S8:V8) -> 3563.2301 | AN8: =SUM(W8:Z8) -> 3732.9396 | AO8: 3801.3738 | AP8: =SUM(AE8:AH8) -> 4023.6967
B9: Total de Custos | C9: n/a | D9: n/a | E9: n/a | F9: n/a | G9: n/a | H9: n/a | I9: n/a | J9: n/a | K9: -126.34225 | L9: -149.22736 | M9: -140.22714 | N9: -159.31322 | O9: =SUM(O10:O13) -> -147.50822 | P9: =SUM(P10:P13) -> -212.03025 | Q9: -279.115 | R9: -351.89354 | S9: -251.39403 | T9: -340.4339 | U9: -329.50778 | V9: -366.56084 | W9: -279.88371 | X9: -364.1859 | Y9: -303.16291 | Z9: -327.16843 | AA9: -264.17109 | AB9: -339.31924 | AC9: -314.4329 | AD9: -325.77669 | AE9: -287.6837 | AF9: -356.15638 | AG9: -329.36597 | AH9: -336.66517 | AI9: -311.83325 | AJ9: -365.51586 | AL9: =SUM(O9:R9) -> -990.54701 | AM9: =SUM(S9:V9) -> -1287.8966 | AN9: =SUM(W9:Z9) -> -1274.4009 | AO9: -1243.6999 | AP9: =SUM(AE9:AH9) -> -1309.8712
B10: Pessoal | C10: n/a | D10: n/a | E10: n/a | F10: n/a | G10: n/a | H10: n/a | I10: n/a | J10: n/a | K10: -99.711858 | L10: -128.88365 | M10: -115.81541 | N10: -126.64645 | O10: -117.48282 | P10: -166.32749 | Q10: -216.48601 | R10: -255.8528 | S10: -179.121 | T10: -246.09319 | U10: -233.48886 | V10: -248.7201 | W10: -199.35124 | X10: -268.16725 | Y10: -216.11083 | Z10: -231.65556 | AA10: -182.78773 | AB10: -233.33448 | AC10: -205.36969 | AD10: -213.01521 | AE10: -186.30005 | AF10: -225.53765 | AG10: -203.45574 | AH10: -205.30278 | AI10: -193.89648 | AJ10: -236.57442 | AL10: =SUM(O10:R10) -> -756.14912 | AM10: =SUM(S10:V10) -> -907.42316 | AN10: =SUM(W10:Z10) -> -915.28487 | AO10: -834.50712 | AP10: =SUM(AE10:AH10) -> -820.59622
B11: Serviços de Terceiros | C11: n/a | D11: n/a | E11: n/a | F11: n/a | G11: n/a | H11: n/a | I11: n/a | J11: n/a | K11: -10.418528 | L11: -7.5030255 | M11: -10.238296 | N11: -12.486848 | O11: -12.455093 | P11: -19.260709 | Q11: -28.082624 | R11: -34.212706 | S11: -24.764036 | T11: -29.105092 | U11: -29.983603 | V11: -35.354849 | W11: -25.156263 | X11: -30.920179 | Y11: -33.433903 | Z11: -25.038715 | AA11: -24.32809 | AB11: -29.971936 | AC11: -30.650377 | AD11: -35.525615 | AE11: -27.966892 | AF11: -36.841984 | AG11: -37.673636 | AH11: -38.193493 | AI11: -29.26338 | AJ11: -38.539939 | AL11: =SUM(O11:R11) -> -94.011132 | AM11: =SUM(S11:V11) -> -119.20758 | AN11: =SUM(W11:Z11) -> -114.54906 | AO11: -120.47602 | AP11: =SUM(AE11:AH11) -> -140.67601
B12: Aluguel & Ocupação | C12: n/a | D12: n/a | E12: n/a | F12: n/a | G12: n/a | H12: n/a | I12: n/a | J12: n/a | K12: -7.6337204 | L12: -5.9688824 | M12: -5.8405263 | N12: -5.8146302 | O12: -7.5145724 | P12: -10.993523 | Q12: -4.6450935 | R12: -15.491099 | S12: -20.323513 | T12: -21.376633 | U12: -19.135272 | V12: -27.890714 | W12: -15.457269 | X12: -20.229882 | Y12: -15.635794 | Z12: -18.647384 | AA12: -17.607867 | AB12: -21.268541 | AC12: -13.339145 | AD12: -17.616904 | AE12: -17.752548 | AF12: -21.204613 | AG12: -19.170569 | AH12: -18.437539 | AI12: -20.469489 | AJ12: -19.558343 | AL12: =SUM(O12:R12) -> -38.644288 | AM12: =SUM(S12:V12) -> -88.726132 | AN12: =SUM(W12:Z12) -> -69.970329 | AO12: -69.832457 | AP12: =SUM(AE12:AH12) -> -76.565269
B13: Outras | C13: n/a | D13: n/a | E13: n/a | F13: n/a | G13: n/a | H13: n/a | I13: n/a | J13: n/a | K13: -8.5781401 | L13: -6.8718012 | M13: -8.3329048 | N13: -14.365291 | O13: -10.05574 | P13: -15.448523 | Q13: -29.901272 | R13: -46.336942 | S13: -27.185482 | T13: -43.858986 | U13: -46.900044 | V13: -54.595174 | W13: -39.918936 | X13: -44.868587 | Y13: -37.98239 | Z13: -51.826768 | AA13: -39.4474 | AB13: -54.744277 | AC13: -65.073685 | AD13: -59.61896 | AE13: -55.664212 | AF13: -72.572127 | AG13: -69.06603 | AH13: -74.73136 | AI13: -68.203902 | AJ13: -70.843152 | AL13: =SUM(O13:R13) -> -101.74248 | AM13: =SUM(S13:V13) -> -172.53969 | AN13: =SUM(W13:Z13) -> -174.59668 | AO13: -218.88432 | AP13: =SUM(AE13:AH13) -> -272.03373
B14: Lucro Bruto (excl Depreciação e Amortização) | C14: n/a | D14: n/a | E14: n/a | F14: n/a | G14: n/a | H14: n/a | I14: n/a | J14: n/a | K14: 212.27546 | L14: 206.90703 | M14: 210.71816 | N14: 216.61203 | O14: =SUM(O8,O9) -> 268.4674 | P14: =SUM(P8,P9) -> 373.93786 | Q14: 537.56835 | R14: 496.61399 | S14: 650.98614 | T14: 570.03866 | U14: 575.72869 | V14: 478.58009 | W14: 674.53858 | X14: 568.23829 | Y14: 637.24417 | Z14: 578.51765 | AA14: 726.54386 | AB14: 637.68288 | AC14: 623.84567 | AD14: 569.60147 | AE14: 752.43809 | AF14: 649.18347 | AG14: 676.5492 | AH14: 635.65476 | AI14: 808.56952 | AJ14: 684.53344 | AL14: =SUM(O14:R14) -> 1676.5876 | AM14: =SUM(S14:V14) -> 2275.3336 | AN14: =SUM(W14:Z14) -> 2458.5387 | AO14: 2557.6739 | AP14: =SUM(AE14:AH14) -> 2713.8255
B15: Despesas Comerciais | C15: n/a | D15: n/a | E15: n/a | F15: n/a | G15: n/a | H15: n/a | I15: n/a | J15: n/a | K15: -32.166872 | L15: -42.459465 | M15: -32.125605 | N15: -58.221677 | O15: =SUM(O16,O17) -> -36.639755 | P15: =SUM(P16,P17) -> -69.235663 | Q15: -37.709952 | R15: -159.3325 | S15: -109.15367 | T15: -117.98463 | U15: -91.345498 | V15: -113.77521 | W15: -122.27754 | X15: -105.45079 | Y15: -130.51435 | Z15: -106.05803 | AA15: -151.55915 | AB15: -106.06793 | AC15: -114.01336 | AD15: -97.53257 | AE15: -150.11949 | AF15: -91.81714 | AG15: -100.22023 | AH15: -122.88205 | AI15: -173.79741 | AJ15: -106.3542 | AL15: =SUM(O15:R15) -> -302.91787 | AM15: =SUM(S15:V15) -> -432.25901 | AN15: =SUM(W15:Z15) -> -464.30071 | AO15: -469.17301 | AP15: =SUM(AE15:AH15) -> -465.03891
B16: PDD | C16: n/a | D16: n/a | E16: n/a | F16: n/a | G16: n/a | H16: n/a | I16: n/a | J16: n/a | K16: -11.551257 | L16: -29.351727 | M16: -14.810335 | N16: -29.709951 | O16: -15.497137 | P16: -46.787124 | Q16: 7.9211429 | R16: -107.08086 | S16: -55.692032 | T16: -65.239284 | U16: -29.169024 | V16: -44.395121 | W16: -54.944804 | X16: -40.6346 | Y16: -54.529324 | Z16: -42.294855 | AA16: -52.547553 | AB16: -60.038212 | AC16: -41.231127 | AD16: -24.709148 | AE16: -52.134277 | AF16: -41.823039 | AG16: -29.44041 | AH16: -49.767606 | AI16: -53.026019 | AJ16: -55.983326 | AL16: =SUM(O16:R16) -> -161.44398 | AM16: =SUM(S16:V16) -> -194.49546 | AN16: =SUM(W16:Z16) -> -192.40358 | AO16: -178.52604 | AP16: =SUM(AE16:AH16) -> -173.16533
B17: Marketing | C17: n/a | D17: n/a | E17: n/a | F17: n/a | G17: n/a | H17: n/a | I17: n/a | J17: n/a | K17: -20.615616 | L17: -13.107738 | M17: -17.315269 | N17: -28.511726 | O17: -21.142618 | P17: -22.448539 | Q17: -45.631095 | R17: -52.251641 | S17: -53.461639 | T17: -52.745345 | U17: -62.176475 | V17: -69.380087 | W17: -67.332741 | X17: -64.816189 | Y17: -75.985027 | Z17: -63.76317 | AA17: -99.011598 | AB17: -46.029716 | AC17: -72.782232 | AD17: -72.823422 | AE17: -97.985213 | AF17: -49.994102 | AG17: -70.779822 | AH17: -73.114445 | AI17: -120.77139 | AJ17: -50.370875 | AL17: =SUM(O17:R17) -> -141.47389 | AM17: =SUM(S17:V17) -> -237.76355 | AN17: =SUM(W17:Z17) -> -271.89713 | AO17: -290.64697 | AP17: =SUM(AE17:AH17) -> -291.87358
B18: Despesas Gerais & Administrativas | C18: n/a | D18: n/a | E18: n/a | F18: n/a | G18: n/a | H18: n/a | I18: n/a | J18: n/a | K18: -36.051226 | L18: -36.802764 | M18: -45.840457 | N18: -46.181974 | O18: =SUM(O19:O22) -> -38.697548 | P18: =SUM(P19:P22) -> -70.994398 | Q18: -80.095265 | R18: -99.166273 | S18: -110.61935 | T18: -110.36908 | U18: -113.47396 | V18: -108.54829 | W18: -130.21402 | X18: -112.14652 | Y18: -112.885 | Z18: -110.70838 | AA18: -108.10225 | AB18: -129.05911 | AC18: -105.74866 | AD18: -115.44702 | AE18: -113.16376 | AF18: -125.25072 | AG18: -125.73121 | AH18: -114.93738 | AI18: -131.26705 | AJ18: -129.51666 | AL18: =SUM(O18:R18) -> -288.95348 | AM18: =SUM(S18:V18) -> -443.01068 | AN18: =SUM(W18:Z18) -> -465.95392 | AO18: -458.35704 | AP18: =SUM(AE18:AH18) -> -479.08306
B19: Pessoal | C19: n/a | D19: n/a | E19: n/a | F19: n/a | G19: n/a | H19: n/a | I19: n/a | J19: n/a | K19: -28.018198 | L19: -28.43915 | M19: -33.310284 | N19: -29.834044 | O19: -31.0298 | P19: -44.753096 | Q19: -46.280029 | R19: -65.027772 | S19: -72.512043 | T19: -83.142695 | U19: -78.387858 | V19: -66.594768 | W19: -82.672433 | X19: -90.884959 | Y19: -70.954247 | Z19: -65.591848 | AA19: -74.218915 | AB19: -75.887516 | AC19: -74.912395 | AD19: -67.836489 | AE19: -74.685312 | AF19: -87.557875 | AG19: -85.935862 | AH19: -74.790827 | AI19: -87.239194 | AJ19: -91.396945 | AL19: =SUM(O19:R19) -> -187.0907 | AM19: =SUM(S19:V19) -> -300.63736 | AN19: =SUM(W19:Z19) -> -310.10349 | AO19: -292.85532 | AP19: =SUM(AE19:AH19) -> -322.96988
B20: Serviços de Terceiros | C20: n/a | D20: n/a | E20: n/a | F20: n/a | G20: n/a | H20: n/a | I20: n/a | J20: n/a | K20: -3.761954 | L20: -4.2932594 | M20: -6.3276287 | N20: -8.399541 | O20: -5.176912 | P20: -20.456319 | Q20: -22.639096 | R20: -29.117472 | S20: -25.183803 | T20: -18.871795 | U20: -28.214731 | V20: -34.281599 | W20: -34.181545 | X20: -13.474653 | Y20: -33.269111 | Z20: -30.495355 | AA20: -28.949522 | AB20: -36.432202 | AC20: -18.870879 | AD20: -28.054894 | AE20: -28.814025 | AF20: -28.781769 | AG20: -28.982569 | AH20: -30.275732 | AI20: -33.116789 | AJ20: -29.985198 | AL20: =SUM(O20:R20) -> -77.389799 | AM20: =SUM(S20:V20) -> -106.55193 | AN20: =SUM(W20:Z20) -> -111.42066 | AO20: -112.3075 | AP20: =SUM(AE20:AH20) -> -116.8541
B21: Aluguel & Ocupação | C21: n/a | D21: n/a | E21: n/a | F21: n/a | G21: n/a | H21: n/a | I21: n/a | J21: n/a | K21: -0.82316997 | L21: -0.9242859 | M21: -1.0334526 | N21: -0.43074663 | O21: -0.495374 | P21: -0.50968364 | Q21: -0.43259848 | R21: -1.016185 | S21: -1.8493184 | T21: 0.5384534 | U21: -0.97692532 | V21: 7.6030284 | W21: -0.14969358 | X21: 5.0809215 | Y21: 0.29501845 | Z21: -1.9407951 | AA21: -0.76208069 | AB21: -1.5934882 | AC21: -0.74983133 | AD21: -1.1827612 | AE21: -0.87067267 | AF21: -0.89625413 | AG21: -1.702928 | AH21: -0.99459554 | AI21: -1.8592143 | AJ21: -0.45561361 | AL21: =SUM(O21:R21) -> -2.4538411 | AM21: =SUM(S21:V21) -> 5.315238 | AN21: =SUM(W21:Z21) -> 3.2854512 | AO21: -4.2881614 | AP21: =SUM(AE21:AH21) -> -4.4644503
B22: Outras | C22: n/a | D22: n/a | E22: n/a | F22: n/a | G22: n/a | H22: n/a | I22: n/a | J22: n/a | K22: -3.4479037 | L22: -3.1460692 | M22: -5.1690925 | N22: -7.5176428 | O22: -1.9954624 | P22: -5.2752989 | Q22: -10.743542 | R22: -4.0048447 | S22: -11.074182 | T22: -8.8930414 | U22: -5.8944481 | V22: -15.274954 | W22: -13.210345 | X22: -12.867829 | Y22: -8.9566574 | Z22: -12.680386 | AA22: -4.1717292 | AB22: -15.145907 | AC22: -11.215553 | AD22: -18.372876 | AE22: -8.7937464 | AF22: -8.0148251 | AG22: -9.1098466 | AH22: -8.8762225 | AI22: -9.0518539 | AJ22: -7.6789041 | AL22: =SUM(O22:R22) -> -22.019148 | AM22: =SUM(S22:V22) -> -41.136626 | AN22: =SUM(W22:Z22) -> -47.715218 | AO22: -48.906065 | AP22: =SUM(AE22:AH22) -> -34.794641
B23: Outras Receitas (Despesas) Operacionais | C23: n/a | D23: n/a | E23: n/a | F23: n/a | G23: n/a | H23: n/a | I23: n/a | J23: n/a | K23: -0.01429529 | L23: -1.1386534 | M23: -1.5995457 | N23: -10.625081 | O23: =SUM(O24:O26) -> -3.17626 | P23: =SUM(P24:P26) -> -0.55651743 | Q23: 6.3291159 | R23: 15.17623 | S23: -4.370335 | T23: 1.4535311 | U23: 13.491656 | V23: -0.07043566 | W23: 1.5573655 | X23: 0.08744612 | Y23: -9.1028378 | Z23: -17.540155 | AA23: -14.083004 | AB23: 0.65760411 | AC23: -10.969503 | AD23: 6.8388605 | AE23: -1.4260248 | AF23: -12.254488 | AG23: -14.931836 | AH23: 13.567238 | AI23: -2.6327725 | AJ23: 5.7748622 | AL23: =SUM(O23:R23) -> 17.772569 | AM23: =SUM(S23:V23) -> 10.504416 | AN23: =SUM(W23:Z23) -> -24.998181 | AO23: -17.556043 | AP23: =SUM(AE23:AH23) -> -15.045111
