Workbook

Sheet Summary

Sheet Student base
B1: Student Base
B2: Summary
B4: # of students | C4: 1Q18 | D4: 2Q18 | E4: 3Q18 | F4: 4Q18 | G4: 1Q19 | H4: 2Q19 | I4: 3Q19 | J4: 4Q19 | K4: 1Q20 | L4: 2Q20 | M4: 3Q20 | N4: 4Q20 | O4: 1Q21 | P4: 2Q21 | Q4: 3Q21 | R4: 4Q21 | S4: 1Q22 | T4: 2Q22 | U4: 3Q22 | V4: 4Q22 | W4: 1Q23 | X4: 2Q23 | Y4: 3Q23 | Z4: 4Q23 | AA4: 1Q24 | AB4: 2Q24 | AC4: 3Q24 | AD4: 4Q24 | AE4: 1Q25 | AF4: 2Q25 | AG4: 3Q25
B5: Undegraduate | C5: n/a | D5: n/a | E5: n/a | F5: n/a | G5: n/a | H5: n/a | I5: n/a | J5: n/a | K5: =SUM(K6:K8) -> 120447 | L5: =SUM(L6:L8) -> 113654 | M5: =SUM(M6:M8) -> 114257 | N5: =SUM(N6:N8) -> 108827 | O5: =SUM(O6:O8) -> 133791 | P5: =SUM(P6:P8) -> 316334 | Q5: =SUM(Q6:Q8) -> 306700 | R5: =SUM(R6:R8) -> 318323 | ... Z5: =SUM(Z6:Z8) -> 343168 | AA5: 336828 | AB5: =SUM(AB6:AB8) -> 342307 | AC5: 323127 | AD5: =SUM(AD6:AD8) -> 324846 | AE5: =SUM(AE6:AE8) -> 334069 | AF5: 332865 | AG5: 312408
B6: Ânima Core | C6: n/a | D6: n/a | E6: n/a | F6: n/a | G6: n/a | H6: n/a | I6: n/a | J6: n/a | K6: 118481 | L6: 111068 | M6: 111582 | N6: 106120 | O6: 125158 | P6: 247638 | Q6: 239722 | R6: 232890 | S6: 239282 | T6: 224013 | U6: 221827 | V6: 213697 | W6: 229419 | X6: 220287 | Y6: 213334 | Z6: 205273 | AA6: 208939 | AB6: 202681 | AC6: 196647 | AD6: 191351 | AE6: 207429 | AF6: 199991 | AG6: 194838
B7: Distance Learning | C7: n/a | D7: n/a | E7: n/a | F7: n/a | G7: n/a | H7: n/a | I7: n/a | J7: n/a | K7: 381 | L7: 441 | M7: 232 | N7: 283 | O7: 3793 | P7: 58711 | Q7: 57117 | R7: 75506 | S7: 80072 | T7: 91503 | U7: 94371 | V7: 107278 | W7: 107176 | X7: 120893 | Y7: 109547 | Z7: 126361 | AA7: 115906 | AB7: 127408 | AC7: 114854 | AD7: 121879 | AE7: 114564 | AF7: 120681 | AG7: 105349
B8: Inspirali | C8: n/a | D8: n/a | E8: n/a | F8: n/a | G8: n/a | H8: n/a | I8: n/a | J8: n/a | K8: 1585 | L8: 2145 | M8: 2443 | N8: 2424 | O8: 4840 | P8: 9985 | Q8: 9861 | R8: 9927 | S8: 10754 | T8: 11019 | U8: 10804 | V8: 10837 | W8: 11921 | X8: 12038 | Y8: 11445 | Z8: 11534 | AA8: 11983 | AB8: 12218 | AC8: 11626 | AD8: 11616 | AE8: 12076 | AF8: 12193 | AG8: 12221
B9: Others | C9: n/a | D9: n/a | E9: n/a | F9: n/a | G9: n/a | H9: n/a | I9: n/a | J9: n/a | K9: =SUM(K10:K10) -> 1409 | L9: =SUM(L10:L10) -> 1358 | M9: =SUM(M10:M10) -> 1420 | N9: =SUM(N10:N10) -> 1405 | O9: =SUM(O10:O10) -> 1822 | P9: =SUM(P10:P10) -> 3930 | Q9: =SUM(Q10:Q10) -> 3862 | R9: =SUM(R10:R10) -> 2698 | ... Z9: =SUM(Z10:Z10) -> 2080 | AA9: 2025 | AB9: =AB10 -> 1997 | AC9: 1707 | AD9: =AD10 -> 1718 | AE9: =AE10 -> 1853 | AF9: 1847 | AG9: 1580
B10: Ânima Core | C10: n/a | D10: n/a | E10: n/a | F10: n/a | G10: n/a | H10: n/a | I10: n/a | J10: n/a | K10: 1409 | L10: 1358 | M10: 1420 | N10: 1405 | O10: 1822 | P10: 3930 | Q10: 3862 | R10: 2698 | S10: 2701 | T10: 2651 | U10: 2542 | V10: 2159 | W10: 1864 | X10: 1848 | Y10: 1914 | Z10: 2080 | AA10: 2025 | AB10: 1997 | AC10: 1707 | AD10: 1718 | AE10: 1853 | AF10: 1847 | AG10: 1580
B11: Academic Education | C11: n/a | D11: n/a | E11: n/a | F11: n/a | G11: n/a | H11: n/a | I11: n/a | J11: n/a | K11: =K5+K9 -> 121856 | L11: =L5+L9 -> 115012 | M11: =M5+M9 -> 115677 | N11: =N5+N9 -> 110232 | O11: =O5+O9 -> 135613 | P11: =P5+P9 -> 320264 | Q11: =Q5+Q9 -> 310562 | R11: =R5+R9 -> 321021 | ... Z11: =Z5+Z9 -> 345248 | AA11: 338853 | AB11: =SUM(AB5,AB9) -> 344304 | AC11: 324834 | AD11: =AD5+AD9 -> 326564 | AE11: =SUM(AE5,AE9) -> 335922 | AF11: 334712 | AG11: 313988
B13: Ânima Core | C13: n/a | D13: n/a | E13: n/a | F13: n/a | G13: n/a | H13: n/a | I13: n/a | J13: n/a | K13: 18380 | L13: 18932 | M13: 23054 | N13: 31692 | O13: 30420 | P13: 36946 | Q13: 33181 | R13: 29974 | S13: 28985 | T13: 26037 | U13: 28353 | V13: 27493 | W13: 28033 | X13: 28041 | Y13: 29262 | Z13: 37131 | AA13: 22515 | AB13: 16261 | AC13: 28215.333 | AD13: 12196 | AE13: 10680 | AF13: 8562 | AG13: 7388
B14: Distance Learning | C14: n/a | D14: n/a | E14: n/a | F14: n/a | G14: n/a | H14: n/a | I14: n/a | J14: n/a | K14: 0 | L14: 0 | M14: 0 | N14: 0 | O14: 2172 | P14: 32567 | Q14: 26543 | R14: 38534 | S14: 31695 | T14: 36524 | U14: 28808 | V14: 31083 | W14: 21106 | X14: 30795 | Y14: 21920 | Z14: 25456 | AA14: 21943 | AB14: 24504 | AC14: 17619 | AD14: 23349 | AE14: 27140 | AF14: 31975 | AG14: 31384
B15: Inspirali | C15: n/a | D15: n/a | E15: n/a | F15: n/a | G15: n/a | H15: n/a | I15: n/a | J15: n/a | K15: 0 | L15: 0 | M15: 0 | N15: 0 | O15: 0 | P15: 0 | Q15: 0 | R15: 2258 | S15: 2420 | T15: 2398 | U15: 2582 | V15: 2797 | W15: 3096 | X15: 3399 | Y15: 3609 | Z15: 3169 | AA15: 3366 | AB15: 3492 | AC15: 3733 | AD15: 7151 | AE15: 7570 | AF15: 7574 | AG15: 8066
B16: Lifelong Learning | C16: n/a | D16: n/a | E16: n/a | F16: n/a | G16: n/a | H16: n/a | I16: n/a | J16: n/a | K16: =SUM(K13:K15) -> 18380 | L16: =SUM(L13:L15) -> 18932 | M16: =SUM(M13:M15) -> 23054 | N16: =SUM(N13:N15) -> 31692 | O16: =SUM(O13:O15) -> 32592 | P16: =SUM(P13:P15) -> 69513 | Q16: =SUM(Q13:Q15) -> 59724 | R16: =SUM(R13:R15) -> 70766 | ... Z16: =SUM(Z13:Z15) -> 65756 | AA16: 47824 | AB16: =SUM(AB13:AB15) -> 44257 | AC16: 49567.333 | AD16: =SUM(AD13:AD15) -> 42696 | AE16: =SUM(AE13:AE15) -> 45390 | AF16: 48111 | AG16: 46838
B18: Total Student Base | C18: n/a | D18: n/a | E18: n/a | F18: n/a | G18: n/a | H18: n/a | I18: n/a | J18: n/a | K18: =K11+K16 -> 140236 | L18: =L11+L16 -> 133944 | M18: =M11+M16 -> 138731 | N18: =N11+N16 -> 141924 | O18: =O11+O16 -> 168205 | P18: =P11+P16 -> 389777 | Q18: =Q11+Q16 -> 370286 | R18: =R11+R16 -> 391787 | ... Z18: =Z11+Z16 -> 411004 | AA18: 386677 | AB18: =SUM(AB11,AB16) -> 388561 | AC18: 374401.33 | AD18: =SUM(AD11,AD16) -> 369260 | AE18: =SUM(AE11,AE16) -> 381312 | AF18: 382823 | AG18: 360826

Sheet Undergraduate Student Flow
B1: Undergraduate Student Flow
B2: Summary
B4: # of students | C4: 1Q18 | D4: 2Q18 | E4: 3Q18 | F4: 4Q18 | G4: 1Q19 | H4: 2Q19 | I4: 3Q19 | J4: 4Q19 | K4: 1Q20 | L4: 2Q20 | M4: 3Q20 | N4: 4Q20 | O4: 1Q21 | P4: 2Q21 | Q4: 3Q21 | R4: 4Q21 | S4: 1Q22 | T4: 2Q22 | U4: 3Q22 | V4: 4Q22 | W4: 1Q23 | X4: 2Q23 | Y4: 3Q23 | Z4: 4Q23 | AA4: 1Q24 | AB4: 2Q24 | AC4: 3Q24 | AD4: 4Q24 | AE4: 1Q25 | AF4: 2Q25 | AG4: 3Q25
B5: Ânima Core | C5: =C4 -> 1Q18 | D5: =D4 -> 2Q18 | E5: =E4 -> 3Q18 | F5: =F4 -> 4Q18 | G5: =G4 -> 1Q19 | H5: =H4 -> 2Q19 | I5: =I4 -> 3Q19 | J5: =J4 -> 4Q19 | ... N5: =N4 -> 4Q20
B6: Previous Base | C6: n.a. | D6: n.a. | E6: n.a. | F6: n.a. | G6: n.a. | H6: n.a. | I6: n.a. | J6: n.a. | K6: n.a. | L6: n.a. | M6: n.a. | N6: n.a. | O6: 106120 | P6: 125158 | Q6: 247638 | R6: 239722 | S6: 232890 | T6: 239282 | U6: 224013 | V6: 221827 | W6: 213697 | X6: 229419 | Y6: 220287 | Z6: 213334 | AA6: 205273 | AB6: 208939 | AC6: 202681 | AD6: 196647 | AE6: =AD12 -> 191351 | AF6: =AE12 -> 207429 | AG6: =AF12 -> 199991
B7: Graduations | C7: n.a. | D7: n.a. | E7: n.a. | F7: n.a. | G7: n.a. | H7: n.a. | I7: n.a. | J7: n.a. | K7: n.a. | L7: n.a. | M7: n.a. | N7: n.a. | O7: -12481 | P7: 0 | Q7: -17548 | R7: 0 | S7: -28846 | T7: 0 | U7: -15216 | V7: 0 | W7: -28722 | X7: 0 | Y7: -15309 | Z7: 0 | AA7: -26716 | AB7: 0 | AC7: -13662 | AD7: 0 | AE7: -23863 | AF7: 0 | AG7: -13165
B8: Dropouts | C8: n.a. | D8: n.a. | E8: n.a. | F8: n.a. | G8: n.a. | H8: n.a. | I8: n.a. | J8: n.a. | K8: n.a. | L8: n.a. | M8: n.a. | N8: n.a. | O8: -7516 | P8: -7392 | Q8: -24345 | R8: -14801 | S8: -29035 | T8: -15269 | U8: -25267 | V8: -8130 | W8: -23909 | X8: -12197 | Y8: -29161 | Z8: -8386 | AA8: -25255 | AB8: -8706 | AC8: -23890 | AD8: -5588 | AE8: -20736 | AF8: -9537 | AG8: -25203
B9: % Dropouts | C9: n.a. | D9: n.a. | E9: n.a. | F9: n.a. | G9: n.a. | H9: n.a. | I9: n.a. | J9: n.a. | K9: n.a. | L9: n.a. | M9: n.a. | N9: n.a. | O9: -0.070825481 | P9: -0.059061346 | Q9: -0.098308822 | R9: -0.061742352 | S9: -0.12467259 | T9: -0.063811737 | U9: -0.11279256 | V9: -0.036650182 | W9: -0.11188271 | X9: -0.053164734 | Y9: -0.13237731 | Z9: -0.039309252 | AA9: -0.12303128 | AB9: -0.041667664 | AC9: =AC8/AC6 -> -0.11786995 | AD9: -0.028416401 | AE9: =AE8/AE6 -> -0.1083663 | AF9: =AF8/AF6 -> -0.045977178 | AG9: =AG8/AG6 -> -0.12602067
B10: New Students | C10: n.a. | D10: n.a. | E10: n.a. | F10: n.a. | G10: n.a. | H10: n.a. | I10: n.a. | J10: n.a. | K10: n.a. | L10: n.a. | M10: n.a. | N10: n.a. | O10: 30327 | P10: 0 | Q10: 33977 | R10: 7969 | S10: 64273 | T10: 0 | U10: 38297 | V10: 0 | W10: 68353 | X10: 3065 | Y10: 37517 | Z10: 325 | AA10: 55637 | AB10: 2448 | AC10: 31518 | AD10: 292 | AE10: 60677 | AF10: 2099 | AG10: 33215
B11: Acquisitions | C11: n.a. | D11: n.a. | E11: n.a. | F11: n.a. | G11: n.a. | H11: n.a. | I11: n.a. | J11: n.a. | K11: n.a. | L11: n.a. | M11: n.a. | N11: n.a. | O11: 8708 | P11: 129872 | Q11: 0 | R11: 0 | S11: 0 | T11: 0 | U11: 0 | V11: 0 | W11: 0 | X11: 0 | Y11: 0 | Z11: 0 | AA11: 0 | AB11: 0 | AC11: 0 | AD11: 0 | AE11: 0 | AF11: 0 | AG11: 0
B12: Current Base | C12: n.a. | D12: n.a. | E12: n.a. | F12: n.a. | G12: n.a. | H12: n.a. | I12: n.a. | J12: n.a. | K12: n.a. | L12: n.a. | M12: n.a. | N12: n.a. | O12: 125158 | P12: 247638 | Q12: 239722 | R12: 232890 | S12: 239282 | T12: 224013 | U12: 221827 | V12: 213697 | W12: 229419 | X12: 220287 | Y12: 213334 | Z12: 205273 | AA12: 208939 | AB12: 202681 | AC12: 196647 | AD12: 191351 | AE12: =SUM(AE6:AE8,AE10:AE11) -> 207429 | AF12: =SUM(AF6:AF8,AF10:AF11) -> 199991 | AG12: =SUM(AG6:AG8,AG10:AG11) -> 194838
B14: Distance Learning | C14: =C5 -> 1Q18 | D14: =D5 -> 2Q18 | E14: =E5 -> 3Q18 | F14: =F5 -> 4Q18 | G14: =G5 -> 1Q19 | H14: =H5 -> 2Q19 | I14: =I5 -> 3Q19 | J14: =J5 -> 4Q19 | ... N14: =N5 -> 4Q20
B15: Previous Base | C15: n.a. | D15: n.a. | E15: n.a. | F15: n.a. | G15: n.a. | H15: n.a. | I15: n.a. | J15: n.a. | K15: n.a. | L15: n.a. | M15: n.a. | N15: n.a. | O15: n.a. | P15: n.a. | Q15: 58711 | R15: 57117 | S15: 75506 | T15: 80072 | U15: 91503 | V15: 94371 | W15: 107278 | X15: 107176 | Y15: 120893 | Z15: 109547 | AA15: 126361 | AB15: 115906 | AC15: 127408 | AD15: 114854 | AE15: =AD21 -> 121879 | AF15: =AE21 -> 114564 | AG15: =AF21 -> 120681
B16: Graduations | C16: n.a. | D16: n.a. | E16: n.a. | F16: n.a. | G16: n.a. | H16: n.a. | I16: n.a. | J16: n.a. | K16: n.a. | L16: n.a. | M16: n.a. | N16: n.a. | O16: n.a. | P16: n.a. | Q16: -2083 | R16: 0 | S16: -3727 | T16: 0 | U16: -3067 | V16: 0 | W16: -4427 | X16: 0 | Y16: -5269 | Z16: 0 | AA16: -5909 | AB16: 0 | AC16: -7100 | AD16: 0 | AE16: -9520 | AF16: 0 | AG16: -10399
B17: Dropouts | C17: n.a. | D17: n.a. | E17: n.a. | F17: n.a. | G17: n.a. | H17: n.a. | I17: n.a. | J17: n.a. | K17: n.a. | L17: n.a. | M17: n.a. | N17: n.a. | O17: n.a. | P17: n.a. | Q17: -16496 | R17: -1348 | S17: -18781 | T17: -5118 | U17: -24583 | V17: -5137 | W17: -30437 | X17: -5685 | Y17: -31780 | Z17: -2065 | AA17: -32709 | AB17: -6814 | AC17: -30525 | AD17: -4103 | AE17: -29735 | AF17: -5066 | AG17: -26501
B18: % Dropouts | C18: n.a. | D18: n.a. | E18: n.a. | F18: n.a. | G18: n.a. | H18: n.a. | I18: n.a. | J18: n.a. | K18: n.a. | L18: n.a. | M18: n.a. | N18: n.a. | O18: n.a. | P18: n.a. | Q18: -0.28096949 | R18: -0.023600679 | S18: -0.2487352 | T18: -0.063917474 | U18: -0.26865786 | V18: -0.054434095 | W18: -0.2837208 | X18: -0.053043592 | Y18: -0.26287709 | Z18: -0.018850356 | AA18: -0.2588536 | AB18: -0.058789019 | AC18: =AC17/AC15 -> -0.23958464 | AD18: -0.035723614 | AE18: =AE17/AE15 -> -0.24397148 | AF18: =AF17/AF15 -> -0.044219825 | AG18: =AG17/AG15 -> -0.21959546
B19: New Students | C19: n.a. | D19: n.a. | E19: n.a. | F19: n.a. | G19: n.a. | H19: n.a. | I19: n.a. | J19: n.a. | K19: n.a. | L19: n.a. | M19: n.a. | N19: n.a. | O19: n.a. | P19: n.a. | Q19: 16985 | R19: 19737 | S19: 27074 | T19: 16549 | U19: 30518 | V19: 18044 | W19: 34762 | X19: 19402 | Y19: 25703 | Z19: 18879 | AA19: 28163 | AB19: 18316 | AC19: 25071 | AD19: 11128 | AE19: 31940 | AF19: 11183 | AG19: 21568
B20: Acquisitions | C20: n.a. | D20: n.a. | E20: n.a. | F20: n.a. | G20: n.a. | H20: n.a. | I20: n.a. | J20: n.a. | K20: n.a. | L20: n.a. | M20: n.a. | N20: n.a. | O20: n.a. | P20: n.a. | Q20: 0 | R20: 0 | S20: 0 | T20: 0 | U20: 0 | V20: 0 | W20: 0 | X20: 0 | Y20: 0 | Z20: 0 | AA20: 0 | AB20: 0 | AC20: 0 | AD20: 0 | AE20: 0 | AF20: 0 | AG20: 0
B21: Current Base | C21: n.a. | D21: n.a. | E21: n.a. | F21: n.a. | G21: n.a. | H21: n.a. | I21: n.a. | J21: n.a. | K21: n.a. | L21: n.a. | M21: n.a. | N21: n.a. | O21: n.a. | P21: n.a. | Q21: 57117 | R21: 75506 | S21: 80072 | T21: 91503 | U21: 94371 | V21: 107278 | W21: 107176 | X21: 120893 | Y21: 109547 | Z21: 126361 | AA21: 115906 | AB21: 127408 | AC21: 114854 | AD21: 121879 | AE21: =SUM(AE15:AE17,AE19:AE20) -> 114564 | AF21: =SUM(AF15:AF17,AF19:AF20) -> 120681 | AG21: =SUM(AG15:AG17,AG19:AG20) -> 105349

Sheet Balance Sheet
B1: Consolidated Balance Sheet - IFRS
B2: Summary
B4: R$ millions | C4: 1Q18 | D4: 2Q18 | E4: 3Q18 | F4: 4Q18 | G4: 1Q19 | H4: 2Q19 | I4: 3Q19 | J4: 4Q19 | K4: 1Q20 | L4: 2Q20 | M4: 3Q20 | N4: 4Q20 | O4: 1Q21 | P4: 2Q21 | Q4: 3Q21 | R4: 4Q21 | S4: 1Q22 | T4: 2Q22 | U4: 3Q22 | V4: 4Q22 | W4: 1Q23 | X4: 2Q23 | Y4: 3Q23 | Z4: 4Q23 | AA4: 1Q24 | AB4: 2Q24 | AC4: 3Q24 | AD4: 4Q24 | AE4: 1Q25 | AF4: 2Q25 | AG4: 3Q25
B5: Current Assets | C5: =SUM(C6:C17) -> 432.861 | D5: =SUM(D6:D17) -> 542.01115 | E5: =SUM(E6:E17) -> 498.98367 | F5: =SUM(F6:F17) -> 408.19357 | G5: =SUM(G6:G17) -> 389.25848 | H5: =SUM(H6:H17) -> 360.947 | I5: =SUM(I6:I17) -> 369.73111 | J5: =SUM(J6:J17) -> 455.92088 | ... AD5: =SUM(AD6:AD17) -> 2084.6531 | AE5: 2324.269 | AF5: 2358.349 | AG5: 2547.889
B6: Cash and cash equivalents | C6: 26.337 | D6: 246.552 | E6: 23.345 | F6: 99.507 | G6: 44.502 | H6: 30.307 | I6: 27.956 | J6: 31.552 | K6: 36.443 | L6: 41.915 | M6: 84.332 | N6: 73.183 | O6: 62.233 | P6: 141.182 | Q6: 174.919 | R6: 169.248 | S6: 229.109 | T6: 146.241 | U6: 192.315 | V6: 422.431 | W6: 419.777 | X6: 61.462 | Y6: 445.741 | Z6: 139.411 | AA6: 146.471 | AB6: 172.419 | AC6: 100.228 | AD6: 99.600576 | AE6: 125.35214 | AF6: 103.14965 | AG6: 112.989
B7: Financial investments | C7: 74.34 | D7: 46.941 | E7: 222.874 | F7: 85.924 | G7: 92.223 | H7: 55.402 | I7: 79.944 | J7: 151.042 | K7: 895.451 | L7: 751.389 | M7: 705.427 | N7: 1204.671 | O7: 1161.156 | P7: 496.839 | Q7: 584.552 | R7: 346.053 | S7: 1172.202 | T7: 1068.326 | U7: 912.282 | V7: 988.199 | W7: 840.518 | X7: 923.049 | Y7: 600.827 | Z7: 765.834 | AA7: 382.004 | AB7: 1007.622 | AC7: 1374.94 | AD7: 1152.3796 | AE7: 1266.569 | AF7: 1341.1299 | AG7: 1563.474
B8: Accounts receivable | C8: 290.528 | D8: 197.56 | E8: 203.574 | F8: 174.083 | G8: 210.759 | H8: 235.44 | I8: 224.399 | J8: 213.346 | K8: 272.865 | L8: 302.431 | M8: 318.364 | N8: 343.602 | O8: 365.439 | P8: 614.25 | Q8: 640.966 | R8: 603.855 | S8: 656.435 | T8: 724.655 | U8: 803.43607 | V8: 791.593 | W8: 873.866 | X8: 808.006 | Y8: 705.582 | Z8: 722.121 | AA8: 822.617 | AB8: 840.904 | AC8: 804.654 | AD8: 740.573 | AE8: 808.37109 | AF8: 784.47605 | AG8: 759.143
B9: Accounts receivables with related parties | C9: 0 | D9: 0 | E9: 0 | F9: 0 | G9: 0 | H9: 0 | I9: 0 | J9: 0 | K9: 0 | L9: 0 | M9: 0 | N9: 0 | O9: 0 | P9: 0 | Q9: 0 | R9: 0 | S9: 0 | T9: 0 | U9: 0 | V9: 0.33511558 | W9: 0.632 | X9: 0.336 | Y9: 0.336 | Z9: 0.336 | AA9: 0.336 | AB9: 0.76 | AC9: 0.76 | AD9: 0.76018843 | AE9: 0.94 | AF9: 0.43756744 | AG9: 0.441
B10: Advances and others | C10: 19.481 | D10: 27.465 | E10: 21.095 | F10: 31.559 | G10: 21.336 | H10: 20.153 | I10: 17.38 | J10: 27.77 | K10: 18.166 | L10: 19.462 | M10: 12.904 | N10: 24.985 | O10: 12.76 | P10: 23.436 | Q10: 17.57 | R10: 44.202 | S10: 24.303 | T10: 36.6 | U10: 28.258 | V10: 55.26 | W10: 17.465 | X10: 26.712 | Y10: 27.576 | Z10: 31.489 | AA10: 18.094 | AB10: 25.564 | AC10: 18.503 | AD10: 30.094734 | AE10: 25.309406 | AF10: 0 | AG10: 0
B11: Recoverable taxes | C11: 8.995 | D11: 9.807 | E11: 10.256 | F11: 9.669 | G11: 6.227 | H11: 7.614 | I11: 6.228 | J11: 4.087 | K11: 4.839 | L11: 6.011 | M11: 4.815 | N11: 5.88 | O11: 6.847 | P11: 78.294 | Q11: 81.588 | R11: 88.617 | S11: 83.441 | T11: 83.384 | U11: 81.562 | V11: 77.156 | W11: 74.695 | X11: 75.765 | Y11: 94.929 | Z11: 62.673 | AA11: 68.065 | AB11: 61.63 | AC11: 58.485 | AD11: 44.339104 | AE11: 47.121239 | AF11: 52.59745 | AG11: 52.84
B12: Derivatives | C12: 0.07000424 | D12: 2.5461454 | E12: 3.319673 | F12: 1.8495748 | G12: 1.5954784 | H12: 0 | I12: 4.0841053 | J12: 2.390878 | K12: 0 | L12: 0 | M12: 0 | N12: 0 | O12: 0.717 | P12: 0 | Q12: 0 | R12: 0 | S12: 0 | T12: 0 | U12: 0 | V12: 0 | W12: 0 | X12: 0 | Y12: 0 | Z12: 0 | AA12: 0 | AB12: 0 | AC12: 0 | AD12: 0 | AE12: 0 | AF12: 0 | AG12: 0
B13: Rights and loans to acquisitions | C13: 0 | D13: 0 | E13: 0 | F13: 0 | G13: 0 | H13: 0 | I13: 0 | J13: 20.05 | K13: 40.115 | L13: 177.13727 | M13: 172.0416 | N13: 0 | O13: 0 | P13: 0 | Q13: 0 | R13: 0 | S13: 0 | T13: 0 | U13: 0 | V13: 0 | W13: 0 | X13: 0 | Y13: 0 | Z13: 0 | AA13: 0 | AB13: 0 | AC13: 0 | AD13: 0 | AE13: 0 | AF13: 0 | AG13: 0
B14: Prepaid expenses | C14: 0 | D14: 0 | E14: 0 | F14: 0 | G14: 0 | H14: 0 | I14: 0 | J14: 0 | K14: 0 | L14: 0 | M14: 0 | N14: 0 | O14: 0 | P14: 0 | Q14: 0 | R14: 0 | S14: 0 | T14: 0 | U14: 0 | V14: 35.991 | W14: 60.37 | X14: 0 | Y14: 0 | Z14: 0 | AA14: 0 | AB14: 0 | AC14: 0 | AD14: 0 | AE14: 0 | AF14: 0 | AG14: 0
B15: Other current assets | C15: 13.11 | D15: 11.14 | E15: 14.52 | F15: 5.602 | G15: 12.616 | H15: 12.031 | I15: 9.74 | J15: 5.683 | K15: 13.184 | L15: 14.033 | M15: 10.192 | N15: 40.894 | O15: 71.502 | P15: 109.827 | Q15: 114.314 | R15: 58.559 | S15: 78.806 | T15: 54.23 | U15: 47.808797 | V15: 5.557 | W15: 1.662 | X15: 41.121 | Y15: 29.968 | Z15: 16.577 | AA15: 37.823 | AB15: 31.357 | AC15: 30.678 | AD15: 16.905884 | AE15: 50.606079 | AF15: =46.84458593+29.71378728 -> 76.558373 | AG15: 59.002
B16: Rights receivable from minority shareholders | C16: 0 | D16: 0 | E16: 0 | F16: 0 | G16: 0 | H16: 0 | I16: 0 | J16: 0 | K16: 0 | L16: 0 | M16: 1.323 | N16: 413.19854 | O16: 180.267 | P16: 1.649 | Q16: 1.248 | R16: 1.395 | S16: 1.668 | T16: 3.897 | U16: 2.028 | V16: 3.067 | W16: 1.76 | X16: 1.227 | Y16: 2.015 | Z16: 0.043 | AA16: 0 | AB16: 0 | AC16: 0 | AD16: 0 | AE16: 0 | AF16: 0 | AG16: 0
B17: Assets held for sale | C17: 0 | D17: 0 | E17: 0 | F17: 0 | G17: 0 | H17: 0 | I17: 0 | J17: 0 | K17: 0 | L17: 0 | M17: 0 | N17: 0 | O17: 0 | P17: 153.022 | Q17: 0 | R17: 0 | S17: 0 | T17: 0 | U17: 0 | V17: 0 | W17: 0 | X17: 0 | Y17: 0 | Z17: 32 | AA17: 32 | AB17: 0 | AC17: 0 | AD17: 0 | AE17: 0 | AF17: 0 | AG17: 0
B18: Non-Current Assets | C18: =SUM(C19:C34) -> 935.731 | D18: =SUM(D19:D34) -> 949.615 | E18: =SUM(E19:E34) -> 999.012 | F18: =SUM(F19:F34) -> 1038.276 | G18: =SUM(G19:G34) -> 1614.286 | H18: =SUM(H19:H34) -> 1609.671 | I18: =SUM(I19:I34) -> 1791.22 | J18: =SUM(J19:J34) -> 1944.1 | ... AD18: =SUM(AD19:AD34) -> 7604.2198 | AE18: 7641.7302 | AF18: 7641.6621 | AG18: 7542.388
B19: Financial investments | C19: 0 | D19: 0 | E19: 0 | F19: 0 | G19: 0 | H19: 0 | I19: 0 | J19: 0 | K19: 0 | L19: 0 | M19: 0 | N19: 0 | O19: 0 | P19: 0 | Q19: 0 | R19: 0 | S19: 0 | T19: 0 | U19: 0 | V19: 66 | W19: 66.011 | X19: 69.423 | Y19: 79.223 | Z19: 79.223 | AA19: 0 | AB19: 0 | AC19: 0 | AD19: 0 | AE19: 0 | AF19: 0 | AG19: 0
B20: Accounts receivable | C20: 0.135 | D20: 0.134 | E20: 0 | F20: 0 | G20: 0 | H20: 0 | I20: 0 | J20: 0 | K20: 0 | L20: 26.307 | M20: 35.056 | N20: 35.376 | O20: 39.058 | P20: 55.342 | Q20: 51.373 | R20: 56.092 | S20: 73.697 | T20: 57.203 | U20: 59.457 | V20: 57.486 | W20: 74.468 | X20: 67.237 | Y20: 46.799 | Z20: 44.4 | AA20: 73.047 | AB20: 68.071 | AC20: 87.012 | AD20: 96.289985 | AE20: 113.74734 | AF20: 140.92254 | AG20: 141.012
B21: Advances and others | C21: 10.613 | D21: 9.674 | E21: 8.521 | F21: 7.233 | G21: 5.968 | H21: 0.096 | I21: 0.013 | J21: 0 | K21: 0 | L21: 0 | M21: 0 | N21: 0 | O21: 0 | P21: 0 | Q21: 0 | R21: 0 | S21: 0 | T21: 0 | U21: 0 | V21: 0 | W21: 0 | X21: 0 | Y21: 0 | Z21: 0 | AA21: 0 | AB21: 0 | AC21: 0 | AD21: 0 | AE21: 0 | AF21: 0 | AG21: 0
B22: Judicial deposits | C22: 40.219 | D22: 43.637 | E22: 45.864 | F22: 50.324 | G22: 53.634 | H22: 55.96 | I22: 57.82 | J22: 61.062 | K22: 60.683 | L22: 63.462 | M22: 62.804 | N22: 63.359 | O22: 65.052 | P22: 142.97 | Q22: 140.408 | R22: 141.873 | S22: 144.14 | T22: 146.23 | U22: 139.954 | V22: 143.801 | W22: 146.887 | X22: 156.145 | Y22: 162.929 | Z22: 149.504 | AA22: 152.115 | AB22: 154.067 | AC22: 159.292 | AD22: 157.17188 | AE22: 158.13127 | AF22: 153.2774 | AG22: 147.59
B23: Rights and loans to acquisitions | C23: 0 | D23: 0 | E23: 0 | F23: 0 | G23: 0 | H23: 0 | I23: 0 | J23: 0 | K23: 0 | L23: 0 | M23: 102.015 | N23: 103.242 | O23: 0 | P23: 156.399 | Q23: 225.58 | R23: 229.925 | S23: 236.051 | T23: 238.025 | U23: 239.705 | V23: 248.616 | W23: 248.599 | X23: 254.377 | Y23: 257.391 | Z23: 256.322 | AA23: 248.413 | AB23: 247.493 | AC23: 232.639 | AD23: 224.28003 | AE23: 226.06208 | AF23: 231.95279 | AG23: 151.086
B24: Credit with related parties | C24: 0.159 | D24: 0.169 | E24: 0.539 | F24: 9.524 | G24: 9.689 | H24: 9.82 | I24: 9.967 | J24: 9.796 | K24: 9.951 | L24: 10.462 | M24: 10.571 | N24: 10.843 | O24: 11.468 | P24: 11.736 | Q24: 11.952 | R24: 12.46 | S24: 14.43 | T24: 23.263 | U24: 25.784688 | V24: 36.189 | W24: 38.822 | X24: 18.617 | Y24: 18.669 | Z24: 13.055 | AA24: 5.875 | AB24: 5.937 | AC24: 0.059 | AD24: 0.05251059 | AE24: 0.05269449 | AF24: 3.2400134 | AG24: 1.624
B25: Recoverable taxes | C25: 15.367 | D25: 14.017 | E25: 12.785 | F25: 12.239 | G25: 14.082 | H25: 11.99 | I25: 12.134 | J25: 12.849 | K25: 13.491 | L25: 13.192 | M25: 14.855 | N25: 15.243 | O25: 14.506 | P25: 17.087 | Q25: 15.795 | R25: 17.509 | S25: 18.188 | T25: 19.556 | U25: 26.208 | V25: 27.328 | W25: 32.924 | X25: 39.066 | Y25: 24.036 | Z25: 49.042 | AA25: 48.757 | AB25: 55.344 | AC25: 31.55 | AD25: 47.290686 | AE25: 41.752036 | AF25: 39.587999 | AG25: 29.029
B26: Deferred income tax and social contribution | C26: 1.584 | D26: 1.584 | E26: 1.584 | F26: 1.584 | G26: 1.584 | H26: 1.584 | I26: 1.584 | J26: 1.584 | K26: 1.54 | L26: 1.527 | M26: 1.514 | N26: 1.501 | O26: 1.488 | P26: 148.253 | Q26: 149.243 | R26: 1.462 | S26: 0 | T26: 0 | U26: 0 | V26: 0 | W26: 0 | X26: 0 | Y26: 0 | Z26: 0 | AA26: 0 | AB26: 0 | AC26: 0 | AD26: 0 | AE26: 0 | AF26: 0 | AG26: 0
B27: Derivatives | C27: 0 | D27: 2.613 | E27: 2.39 | F27: 0.901 | G27: 1.37 | H27: 0 | I27: 0 | J27: 0 | K27: 0 | L27: 0 | M27: 0 | N27: 0 | O27: 3.81 | P27: 0 | Q27: 0 | R27: 0 | S27: 0 | T27: 0 | U27: 0 | V27: 0 | W27: 0 | X27: 0 | Y27: 0 | Z27: 0 | AA27: 0 | AB27: 0 | AC27: 0 | AD27: 0 | AE27: 0 | AF27: 0 | AG27: 0
B28: Advance for future capital increase | C28: 0 | D28: 0 | E28: 0 | F28: 0 | G28: 0 | H28: 0 | I28: 0 | J28: 0 | K28: 0 | L28: 0 | M28: 0 | N28: 0 | O28: 0 | P28: 0 | Q28: 0 | R28: 0 | S28: 0 | T28: 0 | U28: 0 | V28: 0 | W28: 0 | X28: 0 | Y28: 0 | Z28: 0 | AA28: 0 | AB28: 0 | AC28: 0 | AD28: 0 | AE28: 0 | AF28: 0 | AG28: 0
B29: Rights receivable from minority shareholders | C29: 0 | D29: 0 | E29: 0 | F29: 0 | G29: 0 | H29: 0 | I29: 0 | J29: 100.126 | K29: 116.487 | L29: 0 | M29: 11.352 | N29: 0 | O29: 104.131 | P29: 0 | Q29: 0 | R29: 0 | S29: 0 | T29: 0 | U29: 0 | V29: 0 | W29: 0 | X29: 0 | Y29: 0 | Z29: 0 | AA29: 0 | AB29: 0 | AC29: 0 | AD29: 0 | AE29: 0 | AF29: 0 | AG29: 0
B30: Other non-current assets | C30: 31.458 | D30: 35.27 | E30: 35.615 | F30: 37.332 | G30: 36.573 | H30: 36.402 | I30: 39.675 | J30: 41.117 | K30: 39.739 | L30: 38.807 | M30: 4.996 | N30: 7.022 | O30: 7.091 | P30: 65.225 | Q30: 62.606 | R30: 50.82 | S30: 50.872 | T30: 6.318 | U30: 6.083 | V30: 5.779 | W30: 6.374 | X30: 6.52 | Y30: 6.67 | Z30: 6.773 | AA30: 8.022 | AB30: 6.935 | AC30: 10.513 | AD30: 9.2058422 | AE30: 11.032918 | AF30: 9.3062845 | AG30: 9.348
... B34: Intangible | C34: 570.667 | D34: 571.208 | E34: 607.607 | F34: 617.132 | G34: 645.415 | H34: 624.754 | I34: 758.977 | J34: 818.941 | K34: 885.901 | L34: 1033.977 | M34: 1172.947 | N34: 1249.008 | O34: 1721.398 | P34: 5995.381 | Q34: 5911.421 | R34: 5974.018 | S34: 5976.241 | T34: 5886.69 | U34: 5822.616 | V34: 5795.654 | W34: 5756.188 | X34: 5717.142 | Y34: 5674.594 | Z34: 5624.223 | AA34: 5578.887 | AB34: 5541.661 | AC34: 5520.456 | AD34: 5566.9942 | AE34: 5545.5181 | AF34: 5528.0665 | AG34: 5525.999
B35: Total Assets | C35: =SUM(C5,C18) -> 1368.592 | D35: =SUM(D5,D18) -> 1491.6261 | E35: =SUM(E5,E18) -> 1497.9957 | F35: =SUM(F5,F18) -> 1446.4696 | G35: =SUM(G5,G18) -> 2003.5445 | H35: =SUM(H5,H18) -> 1970.618 | I35: =SUM(I5,I18) -> 2160.9511 | J35: =SUM(J5,J18) -> 2400.0209 | ... AD35: =SUM(AD5,AD18) -> 9688.8729 | AE35: =AE18+AE5 -> 9965.9992 | AF35: 10000.011 | AG35: 10090.277
B38: R$ millions | C38: 1Q18 | D38: 2Q18 | E38: 3Q18 | F38: 4Q18 | G38: 1Q19 | H38: 2Q19 | I38: 3Q19 | J38: 4Q19 | K38: 1Q20 | L38: 2Q20 | M38: 3Q20 | N38: 4Q20 | O38: 1Q21 | P38: 2Q21 | Q38: 3Q21 | R38: 4Q21 | S38: 1Q22 | T38: 2Q22 | U38: 3Q22 | V38: 4Q22 | W38: 1Q23 | X38: 2Q23 | Y38: 3Q23 | Z38: 4Q23 | AA38: 1Q24 | AB38: 2Q24 | AC38: 3Q24 | AD38: =AD4 -> 4Q24 | AE38: =AE4 -> 1Q25 | AF38: =AF4 -> 2Q25 | AG38: =AG4 -> 3Q25
B39: Current Liabilities | C39: =SUM(C40:C51) -> 231.213 | D39: =SUM(D40:D51) -> 221.816 | E39: =SUM(E40:E51) -> 265.535 | F39: =SUM(F40:F51) -> 231.586 | G39: =SUM(G40:G51) -> 251.18736 | H39: =SUM(H40:H51) -> 258.78262 | I39: =SUM(I40:I51) -> 470.65624 | J39: =SUM(J40:J51) -> 339.925 | ... AD39: =SUM(AD40:AD51) -> 962.89245 | AE39: 1127.6254 | AF39: 1060.5609 | AG39: 1328.457
B40: Supplier | C40: 34.034 | D40: 28.306 | E40: 28.242 | F40: 30.99 | G40: 27.086 | H40: 28.925 | I40: 31.894 | J40: 31.983 | K40: 41.955 | L40: 44.382 | M40: 43.08 | N40: 48.83 | O40: 46.082 | P40: 137.394 | Q40: 141.535 | R40: 185.508 | S40: 196.413 | T40: 158.862 | U40: 188.12752 | V40: 209.813 | W40: 217.269 | X40: 207.91 | Y40: 222.827 | Z40: 176.692 | AA40: 221.567 | AB40: 202.655 | AC40: 195.981 | AD40: 210.39603 | AE40: 237.58896 | AF40: 203.41424 | AG40: 218.292
B41: Accounts payable with related parties | C41: 0 | D41: 0 | E41: 0 | F41: 0 | G41: 0 | H41: 0 | I41: 0 | J41: 0 | K41: 0 | L41: 0 | M41: 0 | N41: 0 | O41: 0 | P41: 0 | Q41: 0 | R41: 0.699 | S41: 0 | T41: 0 | U41: 0 | V41: 0.16710859 | W41: 0.166 | X41: 0.165 | Y41: 0.637 | Z41: 0.168 | AA41: 0.168 | AB41: 0.168 | AC41: 0.168 | AD41: 0.16773929 | AE41: 0.16773929 | AF41: 1.1978712e-14 | AG41: 0
B42: Loans | C42: 56.856 | D42: 63.059 | E42: 75.806 | F42: 80.539 | G42: 78.370253 | H42: 68.157052 | I42: 203.70884 | J42: 103.435 | K42: 90.415 | L42: 78.429 | M42: 87.914 | N42: 129.607 | O42: 130.636 | P42: 562.582 | Q42: 354.932 | R42: 360.449 | S42: 394.987 | T42: 920.969 | U42: 888.979 | V42: 885.446 | W42: 1333.839 | X42: 867.4 | Y42: 715.789 | Z42: 875.973 | AA42: 778.925 | AB42: 361.883 | AC42: 418.593 | AD42: 146.94745 | AE42: 214.14289 | AF42: 241.33499 | AG42: 411.35
B43: Right of use lease | C43: 0 | D43: 0 | E43: 0 | F43: 0 | G43: 27.173105 | H43: 20.594566 | I43: 23.243397 | J43: 24.688 | K43: 29.655 | L43: 32.732 | M43: 35.724 | N43: 40.431 | O43: 45.727 | P43: 148.116 | Q43: 162.221 | R43: 167.448 | S43: 179.051 | T43: 175.879 | U43: 170.761 | V43: 172.747 | W43: 169.589 | X43: 152.011 | Y43: 158.2 | Z43: 144.371 | AA43: 142.703 | AB43: 143.248 | AC43: 137.175 | AD43: 141.42673 | AE43: 139.86204 | AF43: 129.7594 | AG43: 121.56
B44: Personnel | C44: 61.317 | D44: 81.299 | E44: 95.646 | F44: 69.511 | G44: 62.507 | H44: 79.906 | I44: 96.34 | J44: 75.569 | K44: 83.734 | L44: 130.481 | M44: 142.704 | N44: 97.384 | O44: 115.971 | P44: 239.238 | Q44: 257.768 | R44: 209.086 | S44: 200.205 | T44: 216.547 | U44: 238.216 | V44: 168.336 | W44: 167.397 | X44: 256.912 | Y44: 276.821 | Z44: 204.724 | AA44: 228.864 | AB44: 240.414 | AC44: 268.386 | AD44: 175.65606 | AE44: 194.28864 | AF44: 236.03318 | AG44: 261.589
B45: Taxes payable | C45: 13.27 | D45: 15.652 | E45: 13.17 | F45: 18.82 | G45: 12.916 | H45: 14.806 | I45: 14.339 | J45: 20.594 | K45: 17.242 | L45: 21.868 | M45: 27.629 | N45: 25.316 | O45: 22.678 | P45: 42.496 | Q45: 43.944 | R45: 56.952 | S45: 58.773 | T45: 58.223 | U45: 59.226 | V45: 53.619 | W45: 52.578 | X45: 50.01 | Y45: 45.693 | Z45: 53.347 | AA45: 46.283 | AB45: 45.936 | AC45: 44.558 | AD45: 50.468742 | AE45: 41.502876 | AF45: 42.700252 | AG45: 43.053
B46: Advances from clients | C46: 29.53 | D46: 22.458 | E46: 35.73 | F46: 16.881 | G46: 25.199 | H46: 17.436 | I46: 29.995 | J46: 16.981 | K46: 25.95 | L46: 16.371 | M46: 28.097 | N46: 36.691 | O46: 60.943 | P46: 164.228 | Q46: 124.288 | R46: 80.704 | S46: 111.522 | T46: 92.119 | U46: 130.823 | V46: 108.992 | W46: 153.968 | X46: 89.382 | Y46: 139.828 | Z46: 114.477 | AA46: 169.227 | AB46: 127.394 | AC46: 199.877 | AD46: 105.39205 | AE46: 161.19093 | AF46: 98.323241 | AG46: 164.287
...

Sheet IS IFRS
B1: DRE IFRS
B2: Summary
B4: R$ milhões | C4: 1T18 | D4: 2T18 | E4: 3T18 | F4: 4T18 | G4: 1T19 | H4: 2T19 | I4: 3T19 | J4: 4T19 | K4: 1T20 | L4: 2T20 | M4: 3T20 | N4: 4T20 | O4: 1Q21 | P4: 2Q21 | Q4: 3Q21 | R4: 4Q21 | S4: 1Q22 | T4: 2Q22 | U4: 3Q22 | V4: 4Q22 | W4: 1Q23 | X4: 2Q23 | Y4: 3Q23 | Z4: 4Q23 | AA4: 1Q24 | AB4: 2Q24 | AC4: 3Q24 | AD4: 4Q24 | AE4: 1Q25 | AF4: 2Q25 | AG4: 3Q25 | AI4: 2021 | AJ4: 2022 | AK4: 2023 | AL4: 2024
B5: Net revenue | C5: 266.846 | D5: 282.379 | E5: 257.614 | F5: 295.618 | G5: 282.534 | H5: 285.401 | I5: 293.65 | J5: 319.914 | K5: 338.983 | L5: 356.135 | M5: 350.945 | N5: 375.926 | O5: 415.998 | P5: 585.946 | Q5: 816.681 | R5: 848.506 | S5: 902.38 | T5: 910.472 | U5: 905.237 | V5: 845.142 | W5: 954.422 | X5: 932.424 | Y5: 940.408 | Z5: 905.686 | AA5: 990.715 | AB5: 977.002 | AC5: 938.279 | AD5: 895.3825 | AE5: 1040.122 | AF5: 1005.34 | AG5: 1005.915 | AI5: =SUM(O5:R5) -> 2667.131 | AJ5: =SUM(S5:V5) -> 3563.231 | AK5: =SUM(W5:Z5) -> 3732.94 | AL5: 3801.3785
B6: Cost of services | C6: -140.509 | D6: -185.181 | E6: -172.523 | F6: -208.928 | G6: -134.265 | H6: -176.246 | I6: -168.272 | J6: -192.801 | K6: -149.246 | L6: -175.838 | M6: -172.05 | N6: -186.404 | O6: -180.415 | P6: -248.27 | Q6: -365.272 | R6: -455.987 | S6: -314.226 | T6: -387.888 | U6: -377.883 | V6: -428.844 | W6: -320.443 | X6: -422.017 | Y6: -372.318 | Z6: -404.038 | AA6: -316.88 | AB6: -392.956 | AC6: -385.781 | AD6: -354.369 | AE6: -339.137 | AF6: -409.373 | AG6: -366.58 | AI6: =SUM(O6:R6) -> -1249.944 | AJ6: =SUM(S6:V6) -> -1508.841 | AK6: =SUM(W6:Z6) -> -1518.816 | AL6: -1449.986
B7: Gross Profit | C7: 126.337 | D7: 97.198 | E7: 85.091 | F7: 86.69 | G7: 148.269 | H7: 109.155 | I7: 125.378 | J7: 127.113 | K7: 189.737 | L7: 180.297 | M7: 178.895 | N7: 189.522 | O7: 235.583 | P7: 337.676 | Q7: 451.409 | R7: 392.519 | S7: 588.154 | T7: 522.584 | U7: 527.354 | V7: 416.298 | W7: 633.979 | X7: 510.407 | Y7: 568.09 | Z7: 501.648 | AA7: 673.835 | AB7: 584.046 | AC7: 552.498 | AD7: 541.0135 | AE7: 700.985 | AF7: 595.967 | AG7: 639.335 | AI7: =SUM(O7:R7) -> 1417.187 | AJ7: =SUM(S7:V7) -> 2054.39 | AK7: =SUM(W7:Z7) -> 2214.124 | AL7: 2351.3925
B8: Operational (expenses) revenues | C8: -79.527 | D8: -88.15 | E8: -93.696 | F8: -95.287 | G8: -85.154 | H8: -91.352 | I8: -95.788 | J8: -117.651 | K8: -173.389 | L8: -131.899 | M8: -139.681 | N8: -175.303 | O8: -142.748 | P8: -270.774 | Q8: -308.255 | R8: -397.96304 | S8: -402.9583 | T8: -415.5067 | U8: -412.40001 | V8: -445.423 | W8: -476.765 | X8: -379.346 | Y8: -424.773 | Z8: -408.338 | AA8: -427.67134 | AB8: -385.99966 | AC8: -370.871 | AD8: -346.752 | AE8: -396.356 | AF8: -367.296 | AG8: -386.112 | AI8: =SUM(O8:R8) -> -1119.74 | AJ8: =SUM(S8:V8) -> -1676.288 | AK8: =SUM(W8:Z8) -> -1689.222 | AL8: -1531.294
B9: Sales Expenses | C9: -21.645 | D9: -23.051 | E9: -19.184 | F9: -32.784 | G9: -25.378 | H9: -24.546 | I9: -26.054 | J9: -34.005 | K9: -32.681 | L9: -43.954 | M9: -32.277 | N9: -58.374 | O9: -36.884 | P9: -62.08 | Q9: -58.373 | R9: -151.99704 | S9: -111.4113 | T9: -119.4427 | U9: -85.374006 | V9: -111.389 | W9: -122.081 | X9: -105.988 | Y9: -130.721 | Z9: -105.238 | AA9: -153.03362 | AB9: -104.63438 | AC9: -114.138 | AD9: -97.392 | AE9: -151.117 | AF9: -92.371 | AG9: -100.286 | AI9: =SUM(O9:R9) -> -309.33404 | AJ9: =SUM(S9:V9) -> -427.617 | AK9: =SUM(W9:Z9) -> -464.028 | AL9: -469.198
B10: General & Administrative Expenses | C10: -58.288 | D10: -66.919 | E10: -70.791 | F10: -63.262 | G10: -61.419 | H10: -67.175 | I10: -69.059 | J10: -84.245 | K10: -75.335 | L10: -79.42 | M10: -88.657 | N10: -94.859 | O10: -99.943 | P10: -192.176 | Q10: -299.559 | R10: -272.615 | S10: -271.761 | T10: -280.222 | U10: -324.941 | V10: -325.59 | W10: -310.617 | X10: -301.278 | Y10: -274.114 | Z10: -254.395 | AA10: -257.392 | AB10: -272.243 | AC10: -235.685 | AD10: -277.98 | AE10: -242 | AF10: -260.744 | AG10: -269.003 | AI10: =SUM(O10:R10) -> -864.293 | AJ10: =SUM(S10:V10) -> -1202.514 | AK10: =SUM(W10:Z10) -> -1140.404 | AL10: -1043.3
B11: Equity result | C11: -0.329 | D11: -0.561 | E11: -0.395 | F11: -1.263 | G11: -0.51 | H11: -0.783 | I11: -0.576 | J11: -0.594 | K11: -0.574 | L11: -1.271 | M11: -1.194 | N11: -0.546 | O11: 0.242 | P11: -0.552 | Q11: 0.35 | R11: -0.584 | S11: -4.247 | T11: -4.383 | U11: 0.187 | V11: -5.899 | W11: -2.154 | X11: -1.626 | Y11: -0.818 | Z11: -2.294 | AA11: -8.29272 | AB11: -1.17428 | AC11: -1.032 | AD11: -1.271 | AE11: -1.036 | AF11: -1.603 | AG11: -1.204 | AI11: =SUM(O11:R11) -> -0.544 | AJ11: =SUM(S11:V11) -> -14.342 | AK11: =SUM(W11:Z11) -> -6.892 | AL11: -11.77
B12: Other Operating Revenues (Expenses) | C12: 0.735 | D12: 2.381 | E12: -3.326 | F12: 2.022 | G12: 2.153 | H12: 1.152 | I12: -0.099 | J12: 1.193 | K12: -64.799 | L12: -7.254 | M12: -17.553 | N12: -21.524 | O12: -6.163 | P12: -15.966 | Q12: 49.327 | R12: 27.233 | S12: -15.539 | T12: -11.459 | U12: -2.272 | V12: -2.545 | W12: -41.913 | X12: 29.546 | Y12: -19.12 | Z12: -46.411 | AA12: -8.953 | AB12: -7.948 | AC12: -20.016 | AD12: 29.891 | AE12: -2.203 | AF12: -12.578 | AG12: -15.619 | AI12: =SUM(O12:R12) -> 54.431 | AJ12: =SUM(S12:V12) -> -31.815 | AK12: =SUM(W12:Z12) -> -77.898 | AL12: -7.026
B13: Operating result before financial result | C13: 46.81 | D13: 9.048 | E13: -8.605 | F13: -8.597 | G13: 63.115 | H13: 17.803 | I13: 29.59 | J13: 9.462 | K13: 16.348 | L13: 48.398 | M13: 39.214 | N13: 14.219 | O13: 92.835 | P13: 66.902 | Q13: 143.154 | R13: -5.4440423 | S13: 185.1957 | T13: 107.0773 | U13: 114.95399 | V13: -29.125 | W13: 157.214 | X13: 131.061 | Y13: 143.317 | Z13: 93.31 | AA13: 246.16366 | AB13: 198.04634 | AC13: 181.627 | AD13: 194.2615 | AE13: 304.629 | AF13: 228.671 | AG13: 253.223 | AI13: =SUM(O13:R13) -> 297.44696 | AJ13: =SUM(S13:V13) -> 378.102 | AK13: =SUM(W13:Z13) -> 524.902 | AL13: 820.0985
B14: Financial revenues | C14: 8.005 | D14: 12.259 | E14: 16.129 | F14: 2.805 | G14: 11.167 | H14: 6.109 | I14: 8.386 | J14: 1.463 | K14: 6.815 | L14: 10.362 | M14: 15.719 | N14: 12.689 | O14: 13.042 | P14: 44.557 | Q14: 21.296 | R14: 22.794 | S14: 23.454 | T14: 40.841 | U14: 51.422 | V14: 49.248 | W14: 49.627 | X14: 50.769 | Y14: 33.864 | Z14: 34.268 | AA14: 40.897 | AB14: 30.997 | AC14: 51.911 | AD14: 46.191958 | AE14: 53.776 | AF14: 53.893 | AG14: 75.393 | AI14: =SUM(O14:R14) -> 101.689 | AJ14: =SUM(S14:V14) -> 164.965 | AK14: =SUM(W14:Z14) -> 168.528 | AL14: 169.99696
B15: Financial expenses | C15: -13.122 | D15: -22.376 | E15: -22.401 | F15: -15.986 | G15: -36.286 | H15: -38.911 | I15: -38.56 | J15: -39.66 | K15: -41.286 | L15: -47.715 | M15: -52.453 | N15: -58.655 | O15: -53.999 | P15: -129.193 | Q15: -165.878 | R15: -182.547 | S15: -298.439 | T15: -213.326 | U15: -221.376 | V15: -225.876 | W15: -251.617 | X15: -239.864 | Y15: -193.887 | Z15: -225.937 | AA15: -190.093 | AB15: -225.126 | AC15: -195.224 | AD15: -193.5853 | AE15: -224.955 | AF15: -242.795 | AG15: -258.02 | AI15: =SUM(O15:R15) -> -531.617 | AJ15: =SUM(S15:V15) -> -959.017 | AK15: =SUM(W15:Z15) -> -911.305 | AL15: -804.0283
B16: Profit (Loss) before taxes | C16: 41.693 | D16: -1.069 | E16: -14.877 | F16: -21.778 | G16: 37.996 | H16: -14.999 | I16: -0.584 | J16: -28.735 | K16: -18.123 | L16: 11.045 | M16: 2.48 | N16: -31.747 | O16: 51.878 | P16: -17.734 | Q16: -1.428 | R16: -165.19704 | S16: -89.789299 | T16: -65.407695 | U16: -55.000006 | V16: -205.753 | W16: -44.776 | X16: -58.034 | Y16: -16.706 | Z16: -98.359 | AA16: 96.967663 | AB16: 3.9173366 | AC16: 38.314 | AD16: 46.868163 | AE16: 133.45 | AF16: 39.769 | AG16: 70.596 | AI16: =SUM(O16:R16) -> -132.48104 | AJ16: =SUM(S16:V16) -> -415.95 | AK16: =SUM(W16:Z16) -> -217.875 | AL16: 186.06716
... B19: (-) Non-controlling interest | C19: 0 | D19: 0 | E19: 0 | F19: 0 | G19: 0 | H19: 0 | I19: 0 | J19: 0 | K19: 0 | L19: -0.459 | M19: 0.007 | N19: 0.909 | O19: 2.1008362 | P19: 2.0058346 | Q19: 1.309 | R19: 0.92122627 | S19: 6.7572005 | T19: 35.500634 | U19: 17.953954 | V19: 53.494471 | W19: 35.861882 | X19: 43.99514 | Y19: 17.707047 | Z19: 18.893673 | AA19: 32.99 | AB19: 18.995 | AC19: 34.29 | AD19: 33.024493 | AE19: 44.479 | AF19: 27.385 | AG19: 31.998 | AI19: =SUM(O19:R19) -> 6.3368971 | AJ19: =SUM(S19:V19) -> 113.70626 | AK19: =SUM(W19:Z19) -> 116.45774 | AL19: 119.29949
B20: Net Profit (Loss) attributable to controlling shareholders | C20: 39.94 | D20: -2.976 | E20: -16.655 | F20: -18.058 | G20: 38.124 | H20: -16.92 | I20: -2.472 | J20: -28.325 | K20: -18.818 | L20: =L18-L19 -> 9.904 | M20: =M18-M19 -> 1.814 | N20: =N18-N19 -> -34.008 | O20: =O18-O19 -> 49.996164 | P20: =P18-P19 -> 2.9751654 | Q20: =Q18-Q19 -> 13.184 | R20: =R18-R19 -> -153.81927 | S20: =S18-S19 -> -90.113499 | ... V20: =V18-V19 -> 115.95053 | W20: -77.209882 | X20: -101.81114 | Y20: -30.235047 | Z20: -120.37367 | AA20: 64.535502 | AB20: -14.688502 | AC20: 19.445 | AD20: 15.852327 | AE20: 95.724 | AF20: 9.54 | AG20: 36.542 | AI20: =SUM(O20:R20) -> -87.663939 | AJ20: =SUM(S20:V20) -> -102.25126 | AK20: =SUM(W20:Z20) -> -329.62974 | AL20: 85.144327

Sheet Cons. Income Statment
B1: Consolidated Income Statment (IS)
B2: Summary
B4: R$ million (except in %) | C4: 1Q18 | D4: 2Q18 | E4: 3Q18 | F4: 4Q18 | G4: 1Q19 | H4: 2Q19 | I4: 3Q19 | J4: 4Q19 | K4: 1Q20 | L4: 2Q20 | M4: 3Q20 | N4: 4Q20 | O4: 1Q21 | P4: 2Q21 | Q4: 3Q21 | R4: 4Q21 | S4: 1Q22 | T4: 2Q22 | U4: 3Q22 | V4: 4Q22 | W4: 1Q23 | X4: 2Q23 | Y4: 3Q23 | Z4: 4Q23 | AA4: 1Q24 | AB4: 2Q24 | AC4: 3Q24 | AD4: 4Q24 | AE4: 1Q25 | AF4: 2Q25 | AG4: 3Q25 | AI4: 2021 | AJ4: 2022 | AK4: 2023 | AL4: 2024
B5: Gross Revenue | C5: n/a | D5: n/a | E5: n/a | F5: n/a | G5: n/a | H5: n/a | I5: n/a | J5: n/a | K5: 684.09378 | L5: 659.55375 | M5: 671.76386 | N5: 677.03762 | O5: 787.65308 | P5: 1096.5562 | Q5: 1614.3694 | R5: 1646.1373 | S5: 1761.517 | T5: 1822.5062 | U5: 1829.2289 | V5: 1665.3184 | W5: 1928.9026 | X5: 1963.2054 | Y5: 1886.0547 | Z5: 1868.8011 | AA5: 1986.0648 | AB5: 2018.5313 | AC5: 1885.0221 | AD5: 1882.4275 | AE5: 2134.9154 | AF5: 2173.4726 | AG5: 2051.855 | AI5: 5144.7159 | AJ5: 7078.5706 | AK5: 7646.9638 | AL5: 7772.0457
B6: Discounts, Deductions & Scholarships | C6: n/a | D6: n/a | E6: n/a | F6: n/a | G6: n/a | H6: n/a | I6: n/a | J6: n/a | K6: -334.55587 | L6: -292.10006 | M6: -308.85715 | N6: -288.4479 | O6: -365.91818 | P6: -497.4445 | Q6: -761.27124 | R6: -759.48642 | S6: -822.06907 | T6: -873.39935 | U6: -886.049 | V6: -785.90925 | W6: -937.79783 | X6: -994.2151 | Y6: -908.23511 | Z6: -927.23855 | AA6: -957.8653 | AB6: -1002.3157 | AC6: -907.66731 | AD6: -951.253 | AE6: -1054.8333 | AF6: -1127.5954 | AG6: -1004.9882 | AI6: -2384.1203 | AJ6: -3367.4267 | AK6: -3767.4866 | AL6: -3819.1013
B7: Taxes | C7: n/a | D7: n/a | E7: n/a | F7: n/a | G7: n/a | H7: n/a | I7: n/a | J7: n/a | K7: -10.920203 | L7: -11.319306 | M7: -11.961412 | N7: -12.664474 | O7: -13.023379 | P7: -22.2047 | Q7: -36.414778 | R7: -38.143347 | S7: -37.067803 | T7: -38.63428 | U7: -37.943466 | V7: -34.268245 | W7: -36.682497 | X7: -36.566126 | Y7: -37.412477 | Z7: -35.87643 | AA7: -37.48458 | AB7: -39.213442 | AC7: -39.076209 | AD7: -35.79635 | AE7: -39.960249 | AF7: -40.537377 | AG7: -40.951623 | AI7: -109.7862 | AJ7: -147.91379 | AK7: -146.53753 | AL7: -151.57058
B8: Net Revenue | C8: n/a | D8: n/a | E8: n/a | F8: n/a | G8: n/a | H8: n/a | I8: n/a | J8: n/a | K8: 338.61771 | L8: 356.13439 | M8: 350.94529 | N8: 375.92526 | O8: 408.71152 | P8: 576.90698 | Q8: 816.68335 | R8: 848.50754 | S8: 902.38017 | T8: 910.47256 | U8: 905.23647 | V8: 845.14093 | W8: 954.42228 | X8: 932.42419 | Y8: 940.40708 | Z8: 905.68608 | AA8: 990.71494 | AB8: 977.00212 | AC8: 938.27857 | AD8: 895.37816 | AE8: 1040.1218 | AF8: 1005.3398 | AG8: 1005.9152 | AI8: 2650.8094 | AJ8: 3563.2301 | AK8: 3732.9396 | AL8: 3801.3738
B9: Cost of Services | C9: n/a | D9: n/a | E9: n/a | F9: n/a | G9: n/a | H9: n/a | I9: n/a | J9: n/a | K9: -126.34225 | L9: -149.22736 | M9: -140.22714 | N9: -159.31322 | O9: -147.50822 | P9: -212.03025 | Q9: -279.115 | R9: -351.89354 | S9: -251.39403 | T9: -340.4339 | U9: -329.50778 | V9: -366.56084 | W9: -279.88371 | X9: -364.1859 | Y9: -303.16291 | Z9: -327.16843 | AA9: -264.17109 | AB9: -339.31924 | AC9: -314.4329 | AD9: -325.77669 | AE9: -287.6837 | AF9: -356.15638 | AG9: -329.36597 | AI9: -990.54701 | AJ9: -1287.8966 | AK9: -1274.4009 | AL9: -1243.6999
B10: Personnel | C10: n/a | D10: n/a | E10: n/a | F10: n/a | G10: n/a | H10: n/a | I10: n/a | J10: n/a | K10: -99.711858 | L10: -128.88365 | M10: -115.81541 | N10: -126.64645 | O10: -117.48282 | P10: -166.32749 | Q10: -216.48601 | R10: -255.8528 | S10: -179.121 | T10: -246.1214 | U10: -233.48886 | V10: -248.7201 | W10: -199.35124 | X10: -268.16725 | Y10: -216.11083 | Z10: -231.65556 | AA10: -182.78773 | AB10: -233.33448 | AC10: -205.36969 | AD10: -213.01521 | AE10: -186.30005 | AF10: -225.53765 | AG10: -203.45574 | AI10: -756.14912 | AJ10: -907.45136 | AK10: -915.28487 | AL10: -834.50712
B11: Services from Third Parties | C11: n/a | D11: n/a | E11: n/a | F11: n/a | G11: n/a | H11: n/a | I11: n/a | J11: n/a | K11: -10.418528 | L11: -7.5030255 | M11: -10.238296 | N11: -12.486848 | O11: -12.455093 | P11: -19.260709 | Q11: -28.082624 | R11: -34.212706 | S11: -24.764036 | T11: -29.105092 | U11: -29.983603 | V11: -35.354849 | W11: -25.156263 | X11: -30.920179 | Y11: -33.433903 | Z11: -25.038715 | AA11: -24.32809 | AB11: -29.971936 | AC11: -30.650377 | AD11: -35.525615 | AE11: -27.966892 | AF11: -36.841984 | AG11: -37.673636 | AI11: -94.011132 | AJ11: -119.20758 | AK11: -114.54906 | AL11: -120.47602
B12: Rental & Utilities | C12: n/a | D12: n/a | E12: n/a | F12: n/a | G12: n/a | H12: n/a | I12: n/a | J12: n/a | K12: -7.6337204 | L12: -5.9688824 | M12: -5.8405263 | N12: -5.8146302 | O12: -7.5145724 | P12: -10.993523 | Q12: -4.6450935 | R12: -15.491099 | S12: -20.323513 | T12: -21.376633 | U12: -19.135272 | V12: -27.890714 | W12: -15.457269 | X12: -20.229882 | Y12: -15.635794 | Z12: -18.647384 | AA12: -17.607867 | AB12: -21.268541 | AC12: -13.339145 | AD12: -17.616904 | AE12: -17.752548 | AF12: -21.204613 | AG12: -19.170569 | AI12: -38.644288 | AJ12: -88.726132 | AK12: -69.970329 | AL12: -69.832457
B13: Others | C13: n/a | D13: n/a | E13: n/a | F13: n/a | G13: n/a | H13: n/a | I13: n/a | J13: n/a | K13: -8.5781401 | L13: -6.8718012 | M13: -8.3329048 | N13: -14.365291 | O13: -10.05574 | P13: -15.448523 | Q13: -29.901272 | R13: -46.336942 | S13: -27.185482 | T13: -43.858986 | U13: -46.900044 | V13: -54.595174 | W13: -39.918936 | X13: -44.868587 | Y13: -37.98239 | Z13: -51.826768 | AA13: -39.4474 | AB13: -54.744277 | AC13: -65.073685 | AD13: -59.61896 | AE13: -55.664212 | AF13: -72.572127 | AG13: -69.06603 | AI13: -101.74248 | AJ13: -172.53969 | AK13: -174.59668 | AL13: -218.88432
B14: Gross Profit (exclud. deprec. /amort.) | C14: n/a | D14: n/a | E14: n/a | F14: n/a | G14: n/a | H14: n/a | I14: n/a | J14: n/a | K14: 212.27546 | L14: 206.90703 | M14: 210.71816 | N14: 216.61203 | O14: 261.2033 | P14: 364.87673 | Q14: 537.56835 | R14: 496.61399 | S14: 650.98614 | T14: 570.03866 | U14: 575.72869 | V14: 478.58009 | W14: 674.53858 | X14: 568.23829 | Y14: 637.24417 | Z14: 578.51765 | AA14: 726.54386 | AB14: 637.68288 | AC14: 623.84567 | AD14: 569.60147 | AE14: 752.43809 | AF14: 649.18347 | AG14: 676.5492 | AI14: 1660.2624 | AJ14: 2275.3336 | AK14: 2458.5387 | AL14: 2557.6739
B15: Sales Expenses | C15: n/a | D15: n/a | E15: n/a | F15: n/a | G15: n/a | H15: n/a | I15: n/a | J15: n/a | K15: -32.166872 | L15: -42.459465 | M15: -32.125605 | N15: -58.221677 | O15: -36.639755 | P15: -69.235663 | Q15: -37.709952 | R15: -159.3325 | S15: -109.15367 | T15: -117.98463 | U15: -91.345498 | V15: -113.77521 | W15: -122.27754 | X15: -105.45079 | Y15: -130.51435 | Z15: -106.05803 | AA15: -151.55915 | AB15: -106.06793 | AC15: -114.01336 | AD15: -97.53257 | AE15: -150.11949 | AF15: -91.81714 | AG15: -100.22023 | AI15: -302.91787 | AJ15: -432.25901 | AK15: -464.30071 | AL15: -469.17301
B16: Provision for Doubtful Accounts (PDA) | C16: n/a | D16: n/a | E16: n/a | F16: n/a | G16: n/a | H16: n/a | I16: n/a | J16: n/a | K16: -11.551257 | L16: -29.351727 | M16: -14.810335 | N16: -29.709951 | O16: -15.497137 | P16: -46.787124 | Q16: 7.9211429 | R16: -107.08086 | S16: -55.692032 | T16: -65.239284 | U16: -29.169024 | V16: -44.395121 | W16: -54.944804 | X16: -40.6346 | Y16: -54.529324 | Z16: -42.294855 | AA16: -52.547553 | AB16: -60.038212 | AC16: -41.231127 | AD16: -24.709148 | AE16: -52.134277 | AF16: -41.823039 | AG16: -29.44041 | AI16: -161.44398 | AJ16: -194.49546 | AK16: -192.40358 | AL16: -178.52604
... B41: (-) Non-Controlling Interest | C41: n/a | D41: n/a | E41: n/a | F41: n/a | G41: n/a | H41: n/a | I41: n/a | J41: n/a | K41: 0 | L41: 0.459 | M41: 0 | N41: 0 | O41: 2.1008362 | P41: 2.0058346 | Q41: 1.3095699 | R41: 0.92122627 | S41: 6.7572005 | T41: 35.500731 | U41: 17.953942 | V41: 53.494385 | W41: 35.861882 | X41: 43.99614 | Y41: 17.707047 | Z41: 18.893673 | AA41: 32.988208 | AB41: 18.995765 | AC41: 34.290846 | AD41: 33.025182 | AE41: 44.479 | AF41: 27.384541 | AG41: 31.998459 | AI41: 6.3374669 | AJ41: 113.70626 | AK41: 116.45874 | AL41: 119.3
B42: Adjusted Net Income | C42: n/a | D42: n/a | E42: n/a | F42: n/a | G42: n/a | H42: n/a | I42: n/a | J42: n/a | K42: =K40-K41 -> -18.844834 | L42: =L40-L41 -> 9.0262683 | M42: =M40-M41 -> 1.5168604 | N42: =N40-N41 -> -33.088318 | O42: =O40-O41 -> 49.995153 | P42: =P40-P41 -> 2.9046806 | Q42: =Q40-Q41 -> 13.148694 | R42: =R40-R41 -> -153.71359 | ... AC42: =AC40-AC41 -> 19.44517 | AD42: 15.850728 | AE42: 95.723678 | AF42: 9.5394325 | AG42: 36.543201 | AI42: -87.665061 | AJ42: -102.25439 | AK42: -329.62493 | AL42: 85.147284
B43: Non-Recurring Items - EBITDA | C43: n/a | D43: n/a | E43: n/a | F43: n/a | G43: n/a | H43: n/a | I43: n/a | J43: n/a | K43: 62.69216 | L43: 4.1179767 | M43: 18.286677 | N43: 10.610821 | O43: 6.3526971 | P43: 15.800321 | Q43: 45.447255 | R43: 13.277793 | S43: 0.74766756 | T43: 14.713981 | U43: 15.75695 | V43: 52.510151 | W43: 50.497208 | X43: 8.6965875 | Y43: 25.30909 | Z43: 33.657603 | AA43: 0.43086939 | AB43: 0.71220316 | AC43: 29.540679 | AD43: -21.591653 | AE43: 4.1372598 | AF43: 4.1848026 | AG43: 1.5920631 | AI43: 80.878065 | AJ43: 83.72875 | AK43: 118.16049 | AL43: 9.0920986
B44: Tax recoverable | C44: n/a | D44: n/a | E44: n/a | F44: n/a | G44: n/a | H44: n/a | I44: n/a | J44: n/a | K44: 0 | L44: 0 | M44: 0 | N44: 0 | O44: 0 | P44: 0 | Q44: 0 | R44: 0 | S44: 0 | T44: 0 | U44: 0 | V44: 0 | W44: 0 | X44: 0 | Y44: 0 | Z44: 0 | AA44: 0 | AB44: 0 | AC44: -16.024 | AD44: 0 | AE44: 0 | AF44: 0 | AG44: 0 | AI44: 0 | AJ44: 0 | AK44: 0 | AL44: -16.024
B45: Amortization of intangible assets¹ | C45: n/a | D45: n/a | E45: n/a | F45: n/a | G45: n/a | H45: n/a | I45: n/a | J45: n/a | O45: 4.656 | P45: 23.738 | Q45: 42.054 | R45: 48.166 | S45: 43.65 | T45: 42.65 | U45: 43.798 | V45: 42.267 | W45: 41.391 | X45: 42.899708 | Y45: 39.475292 | Z45: 41.287 | AA45: 39.688 | AB45: 20.21749 | AC45: 16.024225 | AD45: 14.592983 | AE45: 15.448284 | AF45: 15.439657 | AG45: 12.154808 | AI45: 118.614 | AJ45: 172.365 | AK45: 165.053 | AL45: 90.522698
B46: Penalty fee prepayment of debenture¹,² | C46: n/a | D46: n/a | E46: n/a | F46: n/a | G46: n/a | H46: n/a | I46: n/a | J46: n/a | O46: 0 | P46: 0 | Q46: 0 | R46: 0 | S46: 12.357 | T46: 0 | U46: 0 | V46: 0 | W46: 0 | X46: 0 | Y46: 0 | Z46: 0 | AA46: 0 | AB46: 1.680257 | AC46: 0 | AD46: 0 | AE46: 0 | AF46: 0 | AG46: 0 | AI46: 0 | AJ46: 12.357 | AK46: 0 | AL46: 1.680257
B47: Write-off of funding cost of the prepaid debenture¹,² | C47: n/a | D47: n/a | E47: n/a | F47: n/a | G47: n/a | H47: n/a | I47: n/a | J47: n/a | O47: 0 | P47: 0 | Q47: 0 | R47: 0 | S47: 84.384 | T47: 0 | U47: 0 | V47: 0 | W47: 0 | X47: 0 | Y47: 0 | Z47: 0 | AA47: 0 | AB47: 16.599371 | AC47: 0 | AD47: 0 | AE47: 0 | AF47: 0 | AG47: 0 | AI47: 0 | AJ47: 84.384 | AK47: 0 | AL47: 16.599371
B48: Adjusted Net Income | C48: n/a | D48: n/a | E48: n/a | F48: n/a | G48: n/a | H48: n/a | I48: n/a | J48: n/a | K48: =SUM(K42:K47) -> 43.847326 | L48: =SUM(L42:L47) -> 13.144245 | M48: =SUM(M42:M47) -> 19.803537 | N48: =SUM(N42:N47) -> -22.477497 | O48: =SUM(O42:O47) -> 61.00385 | P48: =SUM(P42:P47) -> 42.443001 | Q48: =SUM(Q42:Q47) -> 100.64995 | R48: =SUM(R42:R47) -> -92.269795 | ... AB48: =SUM(AB42:AB47) -> 24.526119 | AC48: 48.984074 | AD48: 8.8540574 | AE48: 115.30922 | AF48: 29.163892 | AG48: 50.290072 | AI48: 111.827 | AJ48: 250.58036 | AK48: -46.411442 | AL48: 187.01771
B50: 1) Amortization of intangible assets of acquired companies.
B51: 2) Since 2Q24, the amounts refers to Anima Holding participation (74,01%) in those adjustments.

Sheet Track Record LTM
B1: Track Record LTM
B2: Summary
B4: R$ million | C4: 1Q18 | D4: 2Q18 | E4: 3Q18 | F4: 4Q18 | G4: 1Q19 | H4: 2Q19 | I4: 3Q19 | J4: 4Q19 | K4: 1Q20 | L4: 2Q20 | M4: 3Q20 | N4: 4Q20 | O4: 1Q21 | P4: 2Q21 | Q4: 3Q21 | R4: 4Q21 | S4: 1Q22 | T4: 2Q22 | U4: 3Q22 | V4: 4Q22 | W4: 1Q23 | X4: 2Q23 | Y4: 3Q23 | Z4: 4Q23 | AA4: 1Q24 | AB4: 2Q24 | AC4: 3Q24 | AD4: 4Q24 | AE4: 1Q25 | AF4: 2Q25 | AG4: 3Q25
B5: Net Revenue | C5: 263.98947 | D5: 276.15209 | E5: 254.51204 | F5: 293.05132 | G5: 279.01408 | H5: 283.5292 | I5: 290.6928 | J5: 317.9001 | K5: 338.61771 | L5: 356.13439 | M5: 350.94529 | N5: 375.92526 | O5: ='IS IFRS'!O5 -> 415.998 | P5: ='IS IFRS'!P5 -> 585.946 | Q5: ='IS IFRS'!Q5 -> 816.681 | R5: ='IS IFRS'!R5 -> 848.506 | S5: ='IS IFRS'!S5 -> 902.38 | T5: ='IS IFRS'!T5 -> 910.472 | U5: ='IS IFRS'!U5 -> 905.237 | V5: ='IS IFRS'!V5 -> 845.142 | ... AE5: ='IS IFRS'!AE5 -> 1040.122 | AF5: 1005.3398 | AG5: 1005.9152
B6: EBITDA w/ IFRS | C6: 88.385131 | D6: 49.600872 | E6: 60.091064 | F6: 49.616144 | G6: 94.521297 | H6: 54.915884 | I6: 75.13346 | J6: 58.484101 | K6: 118.24933 | L6: 91.749452 | M6: 99.835709 | N6: 60.533909 | O6: ='Cons. Income Statment'!O30 -> 139.19539 | P6: ='Cons. Income Statment'!P30 -> 160.0974 | Q6: ='Cons. Income Statment'!Q30-118.7 -> 225.57143 | R6: ='Cons. Income Statment'!R30 -> 159.15128 | S6: ='Cons. Income Statment'!S30 -> 339.05435 | T6: ='Cons. Income Statment'!T30 -> 272.60468 | U6: ='Cons. Income Statment'!U30 -> 282.68605 | V6: ='Cons. Income Statment'!V30 -> 178.66732 | W6: ='Cons. Income Statment'!W30 -> 352.61209 | X6: ='Cons. Income Statment'!X30 -> 278.693 | Y6: ='Cons. Income Statment'!Y30 -> 308.15649 | ... AE6: ='Cons. Income Statment'!AE30 -> 431.63627 | AF6: 352.19542 | AG6: 374.34498
B7: Margin | C7: 0.33480551 | D7: 0.17961433 | E7: 0.23610303 | F7: 0.16930872 | G7: 0.33876891 | H7: 0.19368687 | I7: 0.25846344 | J7: 0.18397006 | K7: 0.3492119 | L7: 0.25762593 | M7: 0.28447656 | N7: 0.16102645 | O7: 0.34057123 | P7: 0.2775099 | Q7: 0.27620428 | R7: 0.18756614 | S7: 0.37573337 | T7: 0.2994101 | U7: 0.31234101 | V7: 0.21140536 | W7: 0.36945082 | X7: 0.29889079 | Y7: 0.32768414 | Z7: 0.29660235 | AA7: 0.39957017 | AB7: 0.34536738 | AC7: 0.35589902 | AD7: 0.35589902 | AE7: =IFERROR(AE6/AE$5,"n.a.") -> 0.41498619 | AF7: 0.35032474 | AG7: 0.37214369
B8: Rent expenses | C8: -19.077 | D8: -19.663 | E8: -21.316 | F8: -23.283 | G8: -19.996815 | H8: -21.194303 | I8: -25.687351 | J8: -23.871381 | K8: -23.17 | L8: -21.736 | M8: -24.635 | N8: -26.721 | O8: -31.95 | P8: -44.989 | Q8: -94.344 | R8: -82.804 | S8: -88.102 | T8: -83.716 | U8: -93.311 | V8: -78.282 | W8: -72.562899 | X8: -72.216201 | Y8: -72.158058 | Z8: -67.643186 | AA8: -68.919595 | AB8: -68.46713 | AC8: -69.094827 | AD8: -69.622443 | AE8: -71.138014 | AF8: -70.88316 | AG8: -71.306
B9: EBITDA ex. IFRS16 | C9: =SUM(C6,C8) -> 69.308131 | D9: =SUM(D6,D8) -> 29.937872 | E9: =SUM(E6,E8) -> 38.775064 | F9: =SUM(F6,F8) -> 26.333144 | G9: =SUM(G6,G8) -> 74.524482 | H9: =SUM(H6,H8) -> 33.721581 | I9: =SUM(I6,I8) -> 49.446109 | J9: =SUM(J6,J8) -> 34.61272 | ... AG9: =SUM(AG6,AG8) -> 303.03898
B10: Margin | C10: =C9/C5 -> 0.26254127 | D10: =D9/D5 -> 0.10841081 | E10: =E9/E5 -> 0.15235061 | F10: =F9/F5 -> 0.089858472 | G10: =G9/G5 -> 0.26709936 | H10: =H9/H5 -> 0.11893512 | I10: =I9/I5 -> 0.17009747 | J10: =J9/J5 -> 0.10887923 | ... AG10: =AG9/AG5 -> 0.30125699
B12: LTM:
B13: Net Revenue | C13: 1049.0959 | D13: 1066.0438 | E13: 1069.5508 | F13: 1087.7049 | G13: 1102.7295 | H13: 1110.1067 | I13: 1146.2874 | J13: 1171.1362 | K13: 1230.7398 | L13: 1303.345 | M13: 1363.5975 | N13: 1421.6226 | O13: 1491.7165 | P13: 1712.4891 | Q13: 2178.2271 | R13: 2650.8094 | S13: 3144.478 | T13: 3478.0436 | U13: 3566.5967 | V13: 3563.2301 | W13: 3615.2722 | X13: 3637.2239 | Y13: 3672.3945 | Z13: 3732.9396 | AA13: 3769.2323 | AB13: 3813.8102 | AC13: 3811.6817 | AD13: =SUM(AA5:AD5) -> 3801.3785 | AE13: =SUM(AB5:AE5) -> 3850.7855 | AF13: =SUM(AC5:AF5) -> 3879.1234 | AG13: =SUM(AD5:AG5) -> 3946.7595
B14: EBITDA | C14: 167.05103 | D14: 161.44146 | E14: 160.65401 | F14: 164.35421 | G14: 169.57056 | H14: 173.35427 | I14: 184.02532 | J14: 192.30489 | K14: 212.85974 | L14: 249.15162 | M14: 274.90622 | N14: 274.1064 | O14: 286.27246 | P14: 331.3674 | Q14: 387.39412 | R14: 429.9285 | S14: 573.63546 | T14: 647.41574 | U14: 705.61978 | V14: 729.65781 | W14: 758.75466 | X14: 776.34278 | Y14: 822.90974 | Z14: 923.50986 | AA14: 970.40121 | AB14: 1032.8819 | AC14: 1061.7211 | AD14: =SUM(AA9:AD9) -> 1084.858 | AE14: =SUM(AB9:AE9) -> 1118.4157 | AF14: =SUM(AC9:AF9) -> 1130.7704 | AG14: =SUM(AD9:AG9) -> 1168.9718
B15: LTM Margin | C15: 0.15923334 | D15: 0.1514398 | E15: 0.150207 | F15: 0.15110184 | G15: 0.15377348 | H15: 0.15616002 | I15: 0.16054029 | J15: 0.1642037 | K15: 0.17061292 | L15: 0.18742874 | M15: 0.19537718 | N15: 0.18743317 | O15: 0.18868301 | P15: 0.19190196 | Q15: 0.17825311 | R15: 0.16218763 | S15: 0.18242629 | T15: 0.18614365 | U15: 0.1978412 | V15: 0.20477426 | W15: 0.20987483 | X15: 0.21344377 | Y15: 0.22407989 | Z15: 0.2473948 | AA15: 0.25745328 | AB15: 0.27082678 | AC15: 0.27854401 | AD15: =AD14/AD13 -> 0.28538541 | AE15: =AE14/AE13 -> 0.29043832 | AF15: =AF14/AF13 -> 0.29150154 | AG15: =AG14/AG13 -> 0.29618521
B16: LTM Margin YoY | G16: =(ROUND(G15,3)-ROUND(C15,3))*100 -> -0.5 | H16: =(ROUND(H15,3)-ROUND(D15,3))*100 -> 0.5 | I16: =(ROUND(I15,3)-ROUND(E15,3))*100 -> 1.1 | J16: =(ROUND(J15,3)-ROUND(F15,3))*100 -> 1.3 | K16: =(ROUND(K15,3)-ROUND(G15,3))*100 -> 1.7 | L16: =(ROUND(L15,3)-ROUND(H15,3))*100 -> 3.1 | M16: =(ROUND(M15,3)-ROUND(I15,3))*100 -> 3.4 | N16: =(ROUND(N15,3)-ROUND(J15,3))*100 -> 2.3 | ... AG16: =(ROUND(AG15,3)-ROUND(AC15,3))*100 -> 1.7

Sheet IS by Segment
B1: IS by Segments - New
B2: Summary
B4: R$ millions, excepQ in % | C4: 1Q18 | D4: 2Q18 | E4: 3Q18 | F4: 4Q18 | G4: 1Q19 | H4: 2Q19 | I4: 3Q19 | J4: 4Q19 | K4: 1Q20 | L4: 2Q20 | M4: 3Q20 | N4: 4Q20 | O4: 1Q21 | P4: 2Q21 | Q4: 3Q21 | R4: 4Q21 | S4: 1Q22 | T4: 2Q22 | U4: 3Q22 | V4: 4Q22 | W4: 1Q23 | X4: 2Q23 | Y4: 3Q23 | Z4: 4Q23 | AA4: 1Q24 | AB4: 2Q24 | AC4: 3Q24 | AD4: 4Q24 | AE4: 1Q25 | AF4: 2Q25 | AG4: 3Q25 | AI4: 2021 | AJ4: 2022 | AK4: 2023 | AL4: 2024
B5: Ânima Core
B6: Gross Revenue | C6: n/a | D6: n/a | E6: n/a | F6: n/a | G6: n/a | H6: n/a | I6: n/a | J6: n/a | K6: n/a | L6: n/a | M6: n/a | N6: n/a | O6: n/a | P6: n/a | Q6: n/a | R6: n/a | S6: 1275.9566 | T6: 1271.1527 | U6: 1303.2832 | V6: 1165.2917 | W6: 1331.1109 | X6: 1314.5403 | Y6: 1271.7909 | Z6: 1240.2932 | AA6: 1303.2522 | AB6: 1300.5676 | AC6: 1229.375 | AD6: 1205.9811 | AE6: 1369.3698 | AF6: 1380.0665 | AG6: 1291.3734 | AI6: n.a. | AJ6: =SUM(S6:V6) -> 5015.6841 | AK6: =SUM(W6:Z6) -> 5157.7353 | AL6: =SUM(AA6:AD6) -> 5039.1758
B7: Discounts, Deductions & Scholarships | C7: n/a | D7: n/a | E7: n/a | F7: n/a | G7: n/a | H7: n/a | I7: n/a | J7: n/a | K7: n/a | L7: n/a | M7: n/a | N7: n/a | O7: n/a | P7: n/a | Q7: n/a | R7: n/a | S7: -664.49192 | T7: -677.86703 | U7: -706.68531 | V7: -611.01978 | W7: -736.80251 | X7: -744.68012 | Y7: -688.23731 | Z7: -695.11473 | AA7: -716.08979 | AB7: -748.03303 | AC7: -677.85483 | AD7: -708.43773 | AE7: -772.38366 | AF7: -826.66131 | AG7: -716.83187 | AI7: n.a. | AJ7: =SUM(S7:V7) -> -2660.064 | AK7: =SUM(W7:Z7) -> -2864.8347 | AL7: =SUM(AA7:AD7) -> -2850.4154
B8: Taxes | C8: n/a | D8: n/a | E8: n/a | F8: n/a | G8: n/a | H8: n/a | I8: n/a | J8: n/a | K8: n/a | L8: n/a | M8: n/a | N8: n/a | O8: n/a | P8: n/a | Q8: n/a | R8: n/a | S8: -24.868798 | T8: -25.459798 | U8: -24.442288 | V8: -21.83668 | W8: -21.876526 | X8: -21.494559 | Y8: -22.323513 | Z8: -20.654847 | AA8: -20.71623 | AB8: -20.903404 | AC8: -20.332415 | AD8: -20.419246 | AE8: -20.941964 | AF8: -20.50228 | AG8: -21.947506 | AI8: n.a. | AJ8: =SUM(S8:V8) -> -96.607564 | AK8: =SUM(W8:Z8) -> -86.349446 | AL8: =SUM(AA8:AD8) -> -82.371295
B9: Net Revenue | C9: n/a | D9: n/a | E9: n/a | F9: n/a | G9: n/a | H9: n/a | I9: n/a | J9: n/a | K9: n/a | L9: n/a | M9: n/a | N9: n/a | O9: n/a | P9: n/a | Q9: n/a | R9: n/a | S9: 586.59591 | T9: 567.82583 | U9: 572.15557 | V9: 532.43521 | W9: 572.43184 | X9: 548.36567 | Y9: 561.23012 | Z9: 524.5236 | AA9: 566.44614 | AB9: 531.63115 | AC9: 531.18772 | AD9: 477.1241 | AE9: 576.04419 | AF9: 532.90295 | AG9: 552.59407 | AI9: n.a. | AJ9: =SUM(S9:V9) -> 2259.0125 | AK9: =SUM(W9:Z9) -> 2206.5512 | AL9: =SUM(AA9:AD9) -> 2106.3891
B10: Cost of Services | C10: n/a | D10: n/a | E10: n/a | F10: n/a | G10: n/a | H10: n/a | I10: n/a | J10: n/a | K10: n/a | L10: n/a | M10: n/a | N10: n/a | O10: n/a | P10: n/a | Q10: n/a | R10: n/a | S10: -197.62911 | T10: -257.32897 | U10: -253.83434 | V10: -272.70784 | W10: -208.91545 | X10: -263.79234 | Y10: -207.12048 | Z10: -213.83505 | AA10: -173.88456 | AB10: -210.04543 | AC10: -200.1543 | AD10: -207.85332 | AE10: -184.17793 | AF10: -228.18694 | AG10: -211.06436 | AI10: n.a. | AJ10: =SUM(S10:V10) -> -981.50025 | AK10: =SUM(W10:Z10) -> -893.66332 | AL10: =SUM(AA10:AD10) -> -791.93761
B11: Personnel | C11: n/a | D11: n/a | E11: n/a | F11: n/a | G11: n/a | H11: n/a | I11: n/a | J11: n/a | K11: n/a | L11: n/a | M11: n/a | N11: n/a | O11: n/a | P11: n/a | Q11: n/a | R11: n/a | S11: -143.10576 | T11: -185.29417 | U11: -184.74396 | V11: -184.8972 | W11: -152.81362 | X11: -202.24539 | Y11: -150.13032 | Z11: -157.63896 | AA11: -128.63604 | AB11: -155.44671 | AC11: -145.21915 | AD11: -149.24105 | AE11: -133.14942 | AF11: -164.19494 | AG11: -149.98066 | AI11: n.a. | AJ11: =SUM(S11:V11) -> -698.04109 | AK11: =SUM(W11:Z11) -> -662.82829 | AL11: =SUM(AA11:AD11) -> -578.54295
B12: Services from Third Parties | C12: n/a | D12: n/a | E12: n/a | F12: n/a | G12: n/a | H12: n/a | I12: n/a | J12: n/a | K12: n/a | L12: n/a | M12: n/a | N12: n/a | O12: n/a | P12: n/a | Q12: n/a | R12: n/a | S12: -19.290113 | T12: -22.529763 | U12: -24.318428 | V12: -27.519817 | W12: -18.468821 | X12: -19.372257 | Y12: -20.370839 | Z12: -16.326791 | AA12: -14.411304 | AB12: -17.146286 | AC12: -19.002771 | AD12: -17.507561 | AE12: -14.071071 | AF12: -19.045777 | AG12: -19.442986 | AI12: n.a. | AJ12: =SUM(S12:V12) -> -93.65812 | AK12: =SUM(W12:Z12) -> -74.538707 | AL12: =SUM(AA12:AD12) -> -68.067923
B13: Rental & Utilities | C13: n/a | D13: n/a | E13: n/a | F13: n/a | G13: n/a | H13: n/a | I13: n/a | J13: n/a | K13: n/a | L13: n/a | M13: n/a | N13: n/a | O13: n/a | P13: n/a | Q13: n/a | R13: n/a | S13: -17.132379 | T13: -17.809541 | U13: -16.619221 | V13: -20.734937 | W13: -13.183843 | X13: -16.588335 | Y13: -12.716361 | Z13: -14.242311 | AA13: -13.830172 | AB13: -16.897887 | AC13: -10.286649 | AD13: -13.243273 | AE13: -13.523737 | AF13: -17.039349 | AG13: -15.544515 | AI13: n.a. | AJ13: =SUM(S13:V13) -> -72.296079 | AK13: =SUM(W13:Z13) -> -56.73085 | AL13: =SUM(AA13:AD13) -> -54.257981
